BEGIN:VCALENDAR
VERSION:2.0
PRODID:-//ChamberMaster//Event Calendar 2.0//EN
METHOD:PUBLISH
X-PUBLISHED-TTL:P3D
REFRESH-INTERVAL:P3D
CALSCALE:GREGORIAN
BEGIN:VEVENT
DTSTART:20200512T213000Z
DTEND:20200513T003000Z
X-MICROSOFT-CDO-ALLDAYEVENT:FALSE
SUMMARY:Workshop: Designing Intentional Workplace Cultures
DESCRIPTION:Diverse workplaces improve the bottom line\, but managing those different values and identities can be a challenge. Essential Partners\, a global leader in community building and communication design\, will host an evening workshop to help you understand the basic elements of creating an intentional\, inclusive workplace culture.
X-ALT-DESC;FMTTYPE=text/html:<span style="font-size:22px\;"><span style="font-family:arial\;">Diverse workplaces improve the bottom line\, but managing those different values and identities can be a challenge. Essential Partners\, a global leader in community building and communication design\, will host an evening workshop to help you understand the basic elements of creating an intentional\, inclusive workplace culture.</span></span>
LOCATION:186 Alewife Brook Pkwy\, Cambridge
UID:e.2584.4676
SEQUENCE:3
DTSTAMP:20260424T000948Z
URL:https://business.cambridgechamber.org/events/details/workshop-designing-intentional-workplace-cultures-4676
END:VEVENT

END:VCALENDAR
