BEGIN:VCALENDAR
VERSION:2.0
PRODID:-//ChamberMaster//Event Calendar 2.0//EN
METHOD:PUBLISH
X-PUBLISHED-TTL:P3D
REFRESH-INTERVAL:P3D
CALSCALE:GREGORIAN
BEGIN:VEVENT
DTSTART:20190508T220000Z
DTEND:20190509T000000Z
X-MICROSOFT-CDO-ALLDAYEVENT:FALSE
SUMMARY:Worker Co-ops and Employee-Owned Business Models
DESCRIPTION:Join us for a panel discussion about worker-owned cooperatives and employee-owned business models. Panelists from local independent businesses will share their stories about how they launched or transitioned to these business models and will offer guidance for those considering these models. This event is open to everyone\, but may be of particular interest to business owners thinking about succession planning or selling their business. Refreshments will be provided. Admission: Free (space is limited - Cambridge business owners will be given priority).
X-ALT-DESC;FMTTYPE=text/html:<span style="color:rgb(0\, 0\, 0)\; font-family:myriad-pro\,arial\,helvetica\,sans-serif\; font-size:13.98px">Join us for a panel discussion about worker-owned cooperatives and employee-owned business models. Panelists from local independent businesses will share their stories about how they launched or transitioned to these business models and will offer guidance for those considering these models. This event is open to everyone\, but may be of particular interest to business owners thinking about succession planning or selling their business. Refreshments will be provided. Admission: Free (space is limited - Cambridge business owners will be given priority).</span>
LOCATION:The Alley\, 10 Ware Street\, Cambridge.
UID:e.2584.4482
SEQUENCE:3
DTSTAMP:20260424T214343Z
URL:https://business.cambridgechamber.org/events/details/worker-co-ops-and-employee-owned-business-models-4482
END:VEVENT

END:VCALENDAR
