BEGIN:VCALENDAR
VERSION:2.0
PRODID:-//ChamberMaster//Event Calendar 2.0//EN
METHOD:PUBLISH
X-PUBLISHED-TTL:P3D
REFRESH-INTERVAL:P3D
CALSCALE:GREGORIAN
BEGIN:VEVENT
DTSTART:20200416T233000Z
DTEND:20200417T004500Z
X-MICROSOFT-CDO-ALLDAYEVENT:FALSE
SUMMARY:Wolfgang Muthspiel Trio feat. Scott Colley and Brian Blade
DESCRIPTION:Austrian guitar-player/composer Wolfgang Muthspiel\, renowned for an "effortless mastery of his instrument" (allaboutjazz.com) returns to the beloved guitar trio formation. His new trio with the stellar rhythm section of Scott Colley on bass and Brian Blade on drums\, was convened for a tour of Japan in the summer of 2018. The dates included a series of concerts in Tokyo culminating in a recording at a local studio. These sessions have been edited\, mixed and mastered by Manfred Eicher and will be released as an album on ECM in early 2020\, showcasing newly written Muthspiel compositions and two jazz standards.\n\n\n\nIn April 2020 the Trio will play a series of concerts in the United States\, presenting the new music for the first time in front of live audiences.
X-ALT-DESC;FMTTYPE=text/html:<span style="font-family:museo slab\,sans-serif\; font-size:13px">Austrian guitar-player/composer Wolfgang Muthspiel\, renowned for an &quot\;effortless mastery of his instrument&quot\; (allaboutjazz.com) returns to the beloved guitar trio formation. His new trio with the stellar rhythm section of Scott Colley on bass and Brian Blade on drums\, was convened for a tour of Japan in the summer of 2018. The dates included a series of concerts in Tokyo culminating in a recording at a local studio. These sessions have been edited\, mixed and mastered by Manfred Eicher and will be released as an album on ECM in early 2020\, showcasing newly written Muthspiel compositions and two jazz standards.</span><br />\n<br />\n<span style="font-family:museo slab\,sans-serif\; font-size:13px">In April 2020 the Trio will play a series of concerts in the United States\, presenting the new music for the first time in front of live audiences.</span>
LOCATION:The Regattabar at The Charles Hotel
UID:e.2584.4727
SEQUENCE:3
DTSTAMP:20260424T014620Z
URL:https://business.cambridgechamber.org/events/details/wolfgang-muthspiel-trio-feat-scott-colley-and-brian-blade-4727
END:VEVENT

END:VCALENDAR
