BEGIN:VCALENDAR
VERSION:2.0
PRODID:-//ChamberMaster//Event Calendar 2.0//EN
METHOD:PUBLISH
X-PUBLISHED-TTL:P3D
REFRESH-INTERVAL:P3D
CALSCALE:GREGORIAN
BEGIN:VEVENT
DTSTART:20190814T210000Z
DTEND:20190814T223000Z
X-MICROSOFT-CDO-ALLDAYEVENT:FALSE
SUMMARY:Wine & Cheese Networking Event at Youville
DESCRIPTION:Enjoy fine wines and hors d'oeuvres while meeting organizations in Cambridge!
X-ALT-DESC;FMTTYPE=text/html:Enjoy fine wines and hors d&#39\;oeuvres while meeting organizations in Cambridge!
LOCATION:1573 Cambridge St. Cambridge\, MA 02138
UID:e.2584.4605
SEQUENCE:3
DTSTAMP:20260424T164309Z
URL:https://business.cambridgechamber.org/events/details/wine-cheese-networking-event-at-youville-4605
END:VEVENT

END:VCALENDAR
