BEGIN:VCALENDAR
VERSION:2.0
PRODID:-//ChamberMaster//Event Calendar 2.0//EN
METHOD:PUBLISH
X-PUBLISHED-TTL:P3D
REFRESH-INTERVAL:P3D
CALSCALE:GREGORIAN
BEGIN:VEVENT
DTSTART:20200115T233000Z
DTEND:20200116T003000Z
X-MICROSOFT-CDO-ALLDAYEVENT:FALSE
SUMMARY:What's Keeping You From Reaching Your Goals? Writing Your Next Chapter
DESCRIPTION:Wanting to make a change in your life and not sure how to get started or need help in moving forward? Life is busy and this change keeps ending up at the bottom of your to-do list? Join Bryan Nadeau from Vision to Reality Coaching  for this free presentation where you will learn how to create a clear picture of where you want to be and achieve greater success in reaching your goal in 2021\, 2025 and beyond. Make your vision your life reality!\n\nAt the end of this presentation you will learn:\n\n\n	The 3 major blocks to change\n	Tips on setting your goal\n	How to break the goal down into manageable steps for greatest success\n\n\nAbout the Facilitator\n\nBryan Nadeau\, CEO and Founder of Vision to Reality Coaching \, has extensive experience as an entrepreneur\, cross-functional team leader\, manager and individual contributor. He helps leaders\, managers\, and up-and-coming talent develop and expand new perspectives\, attitudes\, skills and behaviors for career success and performance gains through a program that helps individuals and teams go from goal to result\, positioning them in the most impactful and effective manner to proactively achieve results. In his practice\, Bryan's approach consistently leads clients to identify actions for immediate impact\, sustainable change and measurable results. He is your advisor helping you address your personal and professional needs and requirements\, to enhance your ability to lead with greater influence and impact. And that is how you can make your vision a reality. www.visiontorealitycoaching.com
X-ALT-DESC;FMTTYPE=text/html:<p>Wanting to make a change in your life and not sure how to get started or need help in moving forward? Life is busy and this change keeps ending up at the bottom of your to-do list? Join Bryan Nadeau from Vision to Reality Coaching&reg\; for this free presentation where you will learn how to create a clear picture of where you want to be and achieve greater success in reaching your goal in 2021\, 2025 and beyond. Make your vision your life reality!</p>\n\n<p>At the end of this presentation you will learn:</p>\n\n<ul>\n	<li>The 3 major blocks to change</li>\n	<li>Tips on setting your goal</li>\n	<li>How to break the goal down into manageable steps for greatest success</li>\n</ul>\n\n<p><strong>About the Facilitator</strong></p>\n\n<p>Bryan Nadeau\, CEO and Founder of Vision to Reality Coaching&reg\;\, has extensive experience as an entrepreneur\, cross-functional team leader\, manager and individual contributor. He helps leaders\, managers\, and up-and-coming talent develop and expand new perspectives\, attitudes\, skills and behaviors for career success and performance gains through a program that helps individuals and teams go from goal to result\, positioning them in the most impactful and effective manner to proactively achieve results. In his practice\, Bryan&rsquo\;s approach consistently leads clients to identify actions for immediate impact\, sustainable change and measurable results. He is your advisor helping you address your personal and professional needs and requirements\, to enhance your ability to lead with greater influence and impact. And that is how you can make your vision a reality. www.visiontorealitycoaching.com</p>\n
LOCATION:Staples Brighton 1660 Soldiers Field Road Boston\, MA 02135
UID:e.2584.4675
SEQUENCE:3
DTSTAMP:20260424T081508Z
URL:https://business.cambridgechamber.org/events/details/what-s-keeping-you-from-reaching-your-goals-writing-your-next-chapter-4675
END:VEVENT

END:VCALENDAR
