BEGIN:VCALENDAR
VERSION:2.0
PRODID:-//ChamberMaster//Event Calendar 2.0//EN
METHOD:PUBLISH
X-PUBLISHED-TTL:P3D
REFRESH-INTERVAL:P3D
CALSCALE:GREGORIAN
BEGIN:VEVENT
DTSTART:20200116T210000Z
DTEND:20200117T000000Z
X-MICROSOFT-CDO-ALLDAYEVENT:FALSE
SUMMARY:Welcome to Staples Studio Cambridge Launch Party
DESCRIPTION:Drink\, snack and explore as you get an exciting first look at our new innovative coworking spaces. Plus enjoy giveaways\, raffles\, a free swag bag and networking opportunities with current members.
X-ALT-DESC;FMTTYPE=text/html:<span style="color:rgb(65\, 57\, 57)\; font-family:verdana\; font-size:14px">Drink\, snack and explore as you get an exciting first look at our new innovative coworking spaces. Plus enjoy giveaways\, raffles\, a free swag bag and networking opportunities with current members.</span>
LOCATION:
UID:e.2584.4690
SEQUENCE:3
DTSTAMP:20260424T064738Z
URL:https://business.cambridgechamber.org/events/details/welcome-to-staples-studio-cambridge-launch-party-4690
END:VEVENT

END:VCALENDAR
