BEGIN:VCALENDAR
VERSION:2.0
PRODID:-//ChamberMaster//Event Calendar 2.0//EN
METHOD:PUBLISH
X-PUBLISHED-TTL:P3D
REFRESH-INTERVAL:P3D
CALSCALE:GREGORIAN
BEGIN:VEVENT
DTSTART:20200426T123000Z
DTEND:20200426T180000Z
X-MICROSOFT-CDO-ALLDAYEVENT:FALSE
SUMMARY:Walk for Change to End Sexual Violence
DESCRIPTION:The Walk for Change is an inspiring day of community\, awareness\, healing\, and hope. It's the largest community event in New England raising awareness of sexual violence\, showing visible support for survivors\, and raising critical funds to support the Boston Area Rape Crisis Center's free services for survivors and community education and prevention programs.\n\n\n\nEach year\, the event brings together nearly 2\,000 people survivors\, friends and loved ones\, families with young children\, students from area high schools and universities\, community members\, local corporations\, and others (including around 100 adorable dogs!) from Greater Boston and beyond to walk in solidarity with survivors and as part of the movement to prevent sexual violence. We come together as communities united for healing and change. \n\n\n\nClick here to see what the Walk's all about in this 90 second video!
X-ALT-DESC;FMTTYPE=text/html:<p><span style="background-color:transparent\; color:rgb(0\, 0\, 0)\; font-family:lato\,sans-serif\; font-size:12pt">The <a href="http://barccwalk.org" target="_blank">Walk for Change</a> is an inspiring day of community\, awareness\, healing\, and hope. It&rsquo\;s the largest community event in New England raising awareness of sexual violence\, showing visible support for survivors\, and raising critical funds to support the <a href="http://barcc.org">Boston Area Rape Crisis Center</a>&rsquo\;s free services for survivors and community education and prevention programs.</span><br />\n<br />\n<span style="background-color:transparent\; color:rgb(0\, 0\, 0)\; font-family:lato\,sans-serif\; font-size:12pt">Each year\, the event brings together nearly 2\,000 people&mdash\;survivors\, friends and loved ones\, families with young children\, students from area high schools and universities\, community members\, local corporations\, and others (including around 100 adorable dogs!)&mdash\;from Greater Boston and beyond to walk in solidarity with survivors and as part of the movement to prevent sexual violence. We come together as communities united for healing and change.&nbsp\;<br />\n<br />\n<a href="https://vimeo.com/384021105" target="_blank">Click here to see what the Walk&#39\;s all about in this 90 second video!</a></span></p>\n\n<div>&nbsp\;</div>\n\n<div>&nbsp\;</div>\n
LOCATION:DCR's Constitution Beach 799 Bennington Street\, East Boston\, MA 02128 Interactive Map of Route and Activities
UID:e.2584.5373
SEQUENCE:3
DTSTAMP:20260424T014447Z
URL:https://business.cambridgechamber.org/events/details/walk-for-change-to-end-sexual-violence-5373
END:VEVENT

END:VCALENDAR
