BEGIN:VCALENDAR
VERSION:2.0
PRODID:-//ChamberMaster//Event Calendar 2.0//EN
METHOD:PUBLISH
X-PUBLISHED-TTL:P3D
REFRESH-INTERVAL:P3D
CALSCALE:GREGORIAN
BEGIN:VEVENT
DTSTART;VALUE=DATE:20200426
DTEND;VALUE=DATE:20200427
TRANSP:TRANSPARENT
X-MICROSOFT-CDO-ALLDAYEVENT:TRUE
SUMMARY:Walk for Change
DESCRIPTION:On Sunday\, April 26\, the Boston Area Rape Crisis Center will be hosting its 14th annual Walk for Change at DCR's Constitution Beach in East Boston.\n\n \n\nAs the largest event in support of survivors of sexual violence in New England\, the Walk is a one-of-a-kind opportunity for you and your business to come together with the Greater Boston community for survivors. If you've never attended the Walk before\, this short video gives you a glimpse into this fun and inspiring day that features delicious food trucks\, upbeat music\, family-friendly activities\, and many adorable dogs. You'll also find a short FAQ about the Walk attached.\n\n \n\nThere are several ways you and your business can get involved with the Walk:\n\nBecome a Sponsor: When you partner with BARCC as a sponsor\, you show your clients\, customers\, employees\, and the community that you believe and support survivors. With opportunities ranging from $3\,500-$25\,000 there's something for businesses of every size! Contact Kim Sebastiao at ksebastiao@barcc.org or 617-649-1260 with any questions or to pledge your support today!\n\n \n\nForm a Team: Show up for survivors by attending the Walk as a team. Groups of 10 or more receive a 50% discount\, bringing each adult registration to $20. Just e-mail us at events@barcc.org for your special code.\n\n \n\nVolunteer: Maybe you don't have a budget to do any of the above. That's OK! You can still have a presence at the Walk by volunteering. You could send one\, 20\, or even 100 representatives from your business or organization to help out. To sign up\, just e-mail volunteer@barcc.org.\n\n \n\nIf you can't support the Walk as a business\, but you're interested in participating with your friends and family\, you can register here. Use the code CAMBCHAMBER to save $10. \n\n \n\nYou can always learn more or make a donation at barccwalk.org.
X-ALT-DESC;FMTTYPE=text/html:<span style="font-size:20px\;">On Sunday\, April 26\, the <a href="http://barcc.org" target="_blank">Boston Area Rape Crisis Center</a> will be hosting its 14th annual <a href="http://barccwalk.org" target="_blank">Walk for Change</a> at DCR&#39\;s Constitution Beach in East Boston.<br />\n&nbsp\;<br />\n<span style="color:black\;"><span style="font-family:arial\,sans-serif\;"><span style="font-variant-numeric:normal\;font-variant-east-asian:normal\;white-space:pre-wrap\;">As the largest event in support of survivors of sexual violence in New England\, the Walk is a one-of-a-kind opportunity for you and your business to come together with the Greater Boston community for survivors. If you&rsquo\;ve never attended the Walk before\, </span></span></span><a href="https://vimeo.com/384021105" style="text-decoration-line:none\;" target="_blank"><span style="font-family:arial\,sans-serif\;"><span style="font-variant-numeric:normal\;font-variant-east-asian:normal\;text-decoration-line:underline\;white-space:pre-wrap\;">this short video</span></span></a><span style="color:black\;"><span style="font-family:arial\,sans-serif\;"><span style="font-variant-numeric:normal\;font-variant-east-asian:normal\;white-space:pre-wrap\;"> gives you a glimpse into this fun and inspiring day that features delicious food trucks\, upbeat music\, family-friendly activities\, and many adorable dogs. You&#39\;ll also find a short FAQ about the Walk attached.</span></span></span><br />\n&nbsp\;<br />\n<strong>There are several ways you and your business can get involved with the Walk:</strong><br />\n<strong><a href="https://xg0fcn6uif2kme4a2a252t41-wpengine.netdna-ssl.com/wp-content/uploads/2020/02/2020-Corporate-Sponsorship-Opportunities.pdf" target="_blank">Become a Sponsor</a>:</strong> When you partner with BARCC as a sponsor\, you show your clients\, customers\, employees\, and the community that you believe and support survivors. With <a href="https://xg0fcn6uif2kme4a2a252t41-wpengine.netdna-ssl.com/wp-content/uploads/2020/02/2020-Corporate-Sponsorship-Opportunities.pdf" target="_blank">opportunities</a> ranging from $3\,500-$25\,000 there&#39\;s something for businesses of every size! Contact Kim Sebastiao at <a href="mailto:ksebastiao@barcc.org" target="_blank">ksebastiao@barcc.org</a>&nbsp\;or 617-649-1260 with any questions or to pledge your support today!<br />\n&nbsp\;<br />\n<strong><a href="https://barccwalk.org/how-to-form-a-team/" target="_blank">Form a Team</a>: </strong>Show up for survivors by attending the Walk as a team. Groups of 10 or more receive a 50% discount\, bringing each adult registration to $20. Just e-mail us at <a href="mailto:events@barcc.org" target="_blank">events@barcc.org</a> for your special code.<br />\n&nbsp\;<br />\n<strong><a href="mailto:volunteer@barcc.org" target="_blank">Volunteer</a>:</strong> Maybe you don&rsquo\;t have a budget to do any of the above. That&rsquo\;s OK! You can still have a presence at the Walk by volunteering. You could send one\, 20\, or even 100 representatives from your business or organization to help out. To sign up\, just e-mail&nbsp\;<a href="mailto:volunteer@barcc.org" target="_blank">volunteer@barcc.org</a>.<br />\n&nbsp\;<br />\nIf you can&#39\;t support the Walk as a business\, but you&#39\;re interested in participating with your friends and family\, you can register <a href="https://www.classy.org/event/walk-for-change-2020/e263038" target="_blank">here</a>. Use the code CAMBCHAMBER to save $10.&nbsp\;<br />\n&nbsp\;<br />\nYou can always learn more or make a donation at <a href="http://barccwalk.org" target="_blank">barccwalk.org</a>.</span>
LOCATION:
UID:e.2584.5378
SEQUENCE:3
DTSTAMP:20260424T014219Z
URL:https://business.cambridgechamber.org/events/details/walk-for-change-5378
END:VEVENT

END:VCALENDAR
