BEGIN:VCALENDAR
VERSION:2.0
PRODID:-//ChamberMaster//Event Calendar 2.0//EN
METHOD:PUBLISH
X-PUBLISHED-TTL:P3D
REFRESH-INTERVAL:P3D
CALSCALE:GREGORIAN
BEGIN:VEVENT
DTSTART:20190409T220000Z
DTEND:20190410T010000Z
X-MICROSOFT-CDO-ALLDAYEVENT:FALSE
SUMMARY:Victor Hugo Wine Dinner at Henrietta's Table
DESCRIPTION:Join us at Henrietta's Table in the heart of Harvard Square for a four-course supper with wine pairings from Victor Hugo Wines on Tuesday\, April 9\, 2019 at 6pm!\n\n\n\nWe're happy to welcome back Victor Hugo Roberts\, the wine maker/owner of Victor Hugo Winery\, to Henrietta's Table. Learn from him about the latest developments at the vineyard and the varietals paired with each course\, created by Chef Peter Davis. Don't miss out on this special private dining event!\n\n\n\nTickets are $80 per person\, inclusive of tax and gratuities.\n\n\n\nVIEW MENU
X-ALT-DESC;FMTTYPE=text/html:Join us at Henrietta&rsquo\;s Table in the heart of Harvard Square for a four-course supper with wine pairings from Victor Hugo Wines on Tuesday\, April 9\, 2019 at 6pm!<br />\n<br />\nWe&#39\;re happy to welcome back Victor Hugo Roberts\, the wine maker/owner of Victor Hugo Winery\, to Henrietta&#39\;s Table. Learn from him about the latest developments at the vineyard and the varietals paired with each course\, created by Chef Peter Davis. Don&#39\;t miss out on this special private dining event!<br />\n<br />\n<strong>Tickets are $80 per person\, inclusive of tax and gratuities.<br />\n<br />\n<a href="https://www.charleshotel.com/pdf/04.09.19%20Victor%20Hugo%20Wine%20Dinner.pdf">VIEW MENU</a></strong>
LOCATION:Henrietta's Table 1 Bennett Street Cambridge\, MA 02138
UID:e.2584.4069
SEQUENCE:3
DTSTAMP:20260424T214354Z
URL:https://business.cambridgechamber.org/events/details/victor-hugo-wine-dinner-at-henrietta-s-table-4069
END:VEVENT

END:VCALENDAR
