BEGIN:VCALENDAR
VERSION:2.0
PRODID:-//ChamberMaster//Event Calendar 2.0//EN
METHOD:PUBLISH
X-PUBLISHED-TTL:P3D
REFRESH-INTERVAL:P3D
CALSCALE:GREGORIAN
BEGIN:VEVENT
DTSTART:20210214T210000Z
DTEND:20210214T233000Z
X-MICROSOFT-CDO-ALLDAYEVENT:FALSE
SUMMARY:Valentine's Italian Dinner
DESCRIPTION:Valentine's Italian Dinner | Sunday | Feb. 14 | 4 - 6:30 pm | $60 | Link to Register\n\nLove is in the air and no one can pull off a romantic meal like the Italians. In this class\, we will prepare dishes to celebrate a sweet Valentine's at home. We'll make fennel\, radicchio\, and parmesan salad\, chicken saltimbocca\, roasted tomato and porcini risotto\, and braised artichokes and peas with fresh basil. We'll finish the class with amaretto chocolate truffles and a glass of Italian wine. We encourage you to cook along in this class. Don't forget to have a glass of wine and some snacks if you plan to just watch and learn. The list of ingredients needed will be sent prior to the class along with the Zoom link. Tuition is per person. Instructor: Diane Manteca
X-ALT-DESC;FMTTYPE=text/html:<strong>Valentine&#39\;s Italian Dinner</strong>&nbsp\;| Sunday | Feb. 14 | 4 - 6:30 pm | $60 |&nbsp\;<a href="https://ccae.org/classes/offering/1979/valentines-italian-dinner" target="_blank">Link to Register</a><br />\nLove is in the air and no one can pull off a romantic meal like the Italians. In this class\, we will prepare dishes to celebrate a sweet Valentine&rsquo\;s at home. We&rsquo\;ll make fennel\, radicchio\, and parmesan salad\, chicken saltimbocca\, roasted tomato and porcini risotto\, and braised artichokes and peas with fresh basil. We&rsquo\;ll finish the class with amaretto chocolate truffles and a glass of Italian wine. We encourage you to cook along in this class. Don&rsquo\;t forget to have a glass of wine and some snacks if you plan to just watch and learn. The list of ingredients needed will be sent prior to the class along with the Zoom link. Tuition is per person. Instructor: Diane Manteca
LOCATION:
UID:e.2584.5938
SEQUENCE:3
DTSTAMP:20260423T113624Z
URL:https://business.cambridgechamber.org/events/details/valentine-s-italian-dinner-5938
END:VEVENT

END:VCALENDAR
