BEGIN:VCALENDAR
VERSION:2.0
PRODID:-//ChamberMaster//Event Calendar 2.0//EN
METHOD:PUBLISH
X-PUBLISHED-TTL:P3D
REFRESH-INTERVAL:P3D
CALSCALE:GREGORIAN
BEGIN:VEVENT
DTSTART;VALUE=DATE:20200214
DTEND;VALUE=DATE:20200215
TRANSP:TRANSPARENT
X-MICROSOFT-CDO-ALLDAYEVENT:TRUE
SUMMARY:Valentine's Day Special Package at Nubar
DESCRIPTION:Nubar is the perfect place for Valentine's Day. This year we will offer our regular dinner menu\, pluse an incredible special Valentine's Day package deal. For $67/pp you get: \n\n	Long stem rose\n	Glass of Prosecco\n	Amuse bouche\n	4 sensational courses\n	Chocolate truffles \n\nThis package deal is available only Friday February 14th. Reserve soon\, as we tend to sell out.
X-ALT-DESC;FMTTYPE=text/html:Nubar is the perfect place for Valentine&#39\;s Day. This year we will offer our regular dinner menu\, pluse an incredible special Valentine&#39\;s Day package deal. For $67/pp you get:&nbsp\;\n<ol>\n	<li>Long stem rose</li>\n	<li>Glass of Prosecco</li>\n	<li>Amuse bouche</li>\n	<li>4 sensational courses</li>\n	<li>Chocolate truffles&nbsp\;</li>\n</ol>\nThis package deal is available only Friday February 14th. Reserve soon\, as we tend to sell out.&nbsp\;
LOCATION:
UID:e.2584.4689
SEQUENCE:3
DTSTAMP:20260424T050807Z
URL:https://business.cambridgechamber.org/events/details/valentine-s-day-special-package-at-nubar-4689
END:VEVENT

END:VCALENDAR
