BEGIN:VCALENDAR
VERSION:2.0
PRODID:-//ChamberMaster//Event Calendar 2.0//EN
METHOD:PUBLISH
X-PUBLISHED-TTL:P3D
REFRESH-INTERVAL:P3D
CALSCALE:GREGORIAN
BEGIN:VEVENT
DTSTART:20200214T210000Z
DTEND:20200215T030000Z
X-MICROSOFT-CDO-ALLDAYEVENT:FALSE
SUMMARY:Valentine's Day at Glass House
DESCRIPTION:Happy Valentine's Day! Enjoy these specials in addition to our full menu. \n\n\n\n\n\n\nAPPETIZERS\n\n\nMUSSELS\n\nsmoked chorizo\, chimichurri\, cream\, chili butter baguette\n\n$15\n\n\nMAIN DISHES\n\n\nBRAISED LAMB SHANK\n\ncharred tomato demi-glace\, rosemary whipped potatoes\, cider glazed carrots\n\n$30\n\nWILD MUSHROOM RAVIOLI\n\ntruffle beurre blanc\, baby spinach\, twice fried garlic\, shaved manchego cheese\n\n$25\n\n\n\n\nDESSERT\n\n\nSTRAWBERRY CHOCOLATE CR ME BR L E\n\n$7\n\nCHURRO STYLE BEIGNETS\n\npumpkin spice & smoky chili chocolate sauce\n\n$8\n\n\n\nCall (617) 945-9450 for reservations!
X-ALT-DESC;FMTTYPE=text/html:<div style="margin-left:auto\; margin-right:auto\; text-align:center">\n<p>Happy Valentine&#39\;s Day! Enjoy these specials in addition to our full menu.&nbsp\;</p>\n</div>\n\n<div style="margin-left:auto\; margin-right:auto\; text-align:center">\n<div style="margin-left:-1.875rem\; margin-right:-1.875rem">\n<div>\n<div>\n<h2>APPETIZERS</h2>\n</div>\n\n<p>MUSSELS</p>\n\n<p>smoked chorizo\, chimichurri\, cream\, chili butter baguette</p>\n\n<p><strong>$15</strong></p>\n\n<div>\n<h2>MAIN DISHES</h2>\n</div>\n\n<p>BRAISED LAMB SHANK</p>\n\n<p>charred tomato demi-glace\, rosemary whipped potatoes\, cider glazed carrots</p>\n\n<p><strong>$30</strong></p>\n\n<p>WILD MUSHROOM RAVIOLI</p>\n\n<p>truffle beurre blanc\, baby spinach\, twice fried garlic\, shaved manchego cheese</p>\n\n<p><strong>$25</strong></p>\n</div>\n\n<div>\n<div>\n<h2>DESSERT</h2>\n</div>\n\n<p>STRAWBERRY CHOCOLATE CR&Egrave\;ME BR&Ucirc\;L&Eacute\;E</p>\n\n<p><strong>$7</strong></p>\n\n<p>CHURRO STYLE BEIGNETS</p>\n\n<p>pumpkin spice &amp\; smoky chili chocolate sauce</p>\n\n<p>$8<br />\n<br />\nCall (617) 945-9450 for reservations!&nbsp\;</p>\n</div>\n</div>\n</div>\n
LOCATION:Glass House 450 Kendall Street Cambridge\, MA 02142
UID:e.2584.4736
SEQUENCE:3
DTSTAMP:20260424T052647Z
URL:https://business.cambridgechamber.org/events/details/valentine-s-day-at-glass-house-4736
END:VEVENT

END:VCALENDAR
