BEGIN:VCALENDAR
VERSION:2.0
PRODID:-//ChamberMaster//Event Calendar 2.0//EN
METHOD:PUBLISH
X-PUBLISHED-TTL:P3D
REFRESH-INTERVAL:P3D
CALSCALE:GREGORIAN
BEGIN:VEVENT
DTSTART:20190410T160000Z
DTEND:20190410T170000Z
X-MICROSOFT-CDO-ALLDAYEVENT:FALSE
SUMMARY:Update on the MA Paid Family and Medical Leave (PFML) law - Lunch & Learn
DESCRIPTION:Proposed regulations were published in January by the newly created Department of Family and Medical Leave.  Required employer/employee contributions will begin July 1st\, with the first paid leave benefit beginning January 1\, 2021.  Come join us for lunch and an update on this important MA initiative!\n\n\n\nLunch will be provided!
X-ALT-DESC;FMTTYPE=text/html:<span style="font-size:18px\;"><span style="font-family:arial\;">Proposed regulations were published in January by the newly created Department of Family and Medical Leave.&nbsp\; Required employer/employee contributions will begin July 1<sup>st</sup>\, with the first paid leave benefit beginning January 1\, 2021.&nbsp\; Come join us for lunch and an update on this important MA initiative!<br />\n<br />\nLunch will be provided!</span></span>
LOCATION:CIP 799 Cambridge St\, Cambridge\, MA 02141
UID:e.2584.3841
SEQUENCE:3
DTSTAMP:20260424T214825Z
URL:https://business.cambridgechamber.org/events/details/update-on-the-ma-paid-family-and-medical-leave-pfml-law-lunch-learn-3841
END:VEVENT

END:VCALENDAR
