BEGIN:VCALENDAR
VERSION:2.0
PRODID:-//ChamberMaster//Event Calendar 2.0//EN
METHOD:PUBLISH
X-PUBLISHED-TTL:P3D
REFRESH-INTERVAL:P3D
CALSCALE:GREGORIAN
BEGIN:VEVENT
DTSTART:20191010T213000Z
DTEND:20191010T233000Z
X-MICROSOFT-CDO-ALLDAYEVENT:FALSE
SUMMARY:Turn Over a New Leaf with the Young Professionals Council
DESCRIPTION:Are you a young professional who wants to give back to your community? Come support the children and families of Massachusetts and get to know other professionals like you at our Fall Mixer\, hosted by the Young Professionals Council of Cambridge Family & Children's Service (CFCS)! Enjoy drinks\, appetizers and the fresh space at CultureHouse in Kendall Square\, all while networking with like-minded professionals. Plus\, half of all ticket sales will go directly to CFCS to fund our programs. Just by attending\, you'll already be making a difference.
X-ALT-DESC;FMTTYPE=text/html:<span style="font-size:20px\;"><span style="color:#1F497D\;"><span style="font-family:calibri\,sans-serif\;">Are you a young professional who wants to give back to your community? Come support the children and families of Massachusetts and get to know other professionals like you at our Fall Mixer\, hosted by the Young Professionals Council of Cambridge Family &amp\; Children&#39\;s Service (CFCS)! Enjoy drinks\, appetizers and the fresh space at CultureHouse in Kendall Square\, all while networking with like-minded professionals. Plus\, half of all ticket sales will go directly to CFCS to fund our programs. Just by attending\, you&#39\;ll already be making a difference.</span></span></span>
LOCATION:CultureHouse 500 Kendall Street
UID:e.2584.4620
SEQUENCE:3
DTSTAMP:20260424T130128Z
URL:https://business.cambridgechamber.org/events/details/turn-over-a-new-leaf-with-the-young-professionals-council-4620
END:VEVENT

END:VCALENDAR
