BEGIN:VCALENDAR
VERSION:2.0
PRODID:-//ChamberMaster//Event Calendar 2.0//EN
METHOD:PUBLISH
X-PUBLISHED-TTL:P3D
REFRESH-INTERVAL:P3D
CALSCALE:GREGORIAN
BEGIN:VEVENT
DTSTART:20191017T213000Z
DTEND:20191018T010000Z
X-MICROSOFT-CDO-ALLDAYEVENT:FALSE
SUMMARY:Tribute to Outstanding Women
DESCRIPTION:Join YWCA Cambridge on October 17\, 2019 for Tribute to Outstanding Women\, our signature annual fundraising event. Help us celebrate and honor Cambridge area women who dare to be powerful.\n\nTickets are going on sale soon!
X-ALT-DESC;FMTTYPE=text/html:<p style="box-sizing: border-box\; margin: 0px 0px 10px\; line-height: 1.7\; color: rgb(51\, 51\, 51)\; font-family: Helvetica\, Verdana\, Arial\, sans-serif\; font-size: 14px\; background-color: rgb(255\, 255\, 255)\;"><span style="font-size:20px\;"><span style="font-family:arial\;">Join YWCA Cambridge on October 17\, 2019 for Tribute to Outstanding Women\, our signature annual fundraising event. Help us celebrate and honor Cambridge area women who dare to be powerful.</span></span></p>\n\n<p style="box-sizing: border-box\; margin: 0px 0px 10px\; line-height: 1.7\; color: rgb(51\, 51\, 51)\; font-family: Helvetica\, Verdana\, Arial\, sans-serif\; font-size: 14px\; background-color: rgb(255\, 255\, 255)\;"><span style="font-size:20px\;"><span style="font-family:arial\;">Tickets are going on sale soon!</span></span></p>\n
LOCATION:MIT Walker Memorial Hall 142 Memorial Drive Cambridge\, MA 02142
UID:e.2584.4600
SEQUENCE:3
DTSTAMP:20260424T112514Z
URL:https://business.cambridgechamber.org/events/details/tribute-to-outstanding-women-4600
END:VEVENT

END:VCALENDAR
