BEGIN:VCALENDAR
VERSION:2.0
PRODID:-//ChamberMaster//Event Calendar 2.0//EN
METHOD:PUBLISH
X-PUBLISHED-TTL:P3D
REFRESH-INTERVAL:P3D
CALSCALE:GREGORIAN
BEGIN:VEVENT
DTSTART:20190404T190000Z
DTEND:20190404T200000Z
X-MICROSOFT-CDO-ALLDAYEVENT:FALSE
SUMMARY:The Year of the Solopreneur: Q2 Goals Clinic
DESCRIPTION:It's time to check in on your 2019 goals!\n\nWhether you attended our 'Year of the Solopreneur' goal setting workshop in January\, or you're just ready to check-in on how you're doing in your business\, it's a great idea to have a quarterly check-in.\n\nIn this one-hour workshop you will:\n\n\n	\n	Have an opportunity to review goals you set for yourself and your business at the beginning of the year\, and evaluate how you're progressing.\n	\n	\n	Set some new goals that reflect where you are in Q2 and what you'd like to achieve in the rest of 2019.\n	\n	\n	Find hidden opportunities that will boost your energy\, and help you leap frog ahead in your business\n	\n	\n	Focus on profit and revenue targets that will guide you in the months ahead\, and help you make 2019 the best year your business has seen!\n	\n\n\n \n\nYou should attend this event if you are:\n\n\n	\n	Wanting some support and accountability around setting and sticking to goals\n	\n	\n	Needing a little head space to actually work ON your business and not just IN it.\n	\n	\n	Looking for inspiration to re-focus\, revitalize\, re-invigorate your business\n	\n	\n	Determined to make this year better than last\, and know that you need a little extra oomph to keep going.\n	\n\n\n \n\nAbout the Presenter\n\nVictoria Dew\, SCMP -- Dewpoint Communications\n\nVictoria knows first-hand how challenging being a solopreneur can be\, and is an expert at helping others to navigate their way through the highs and lows of building a business. She is a certified business coach\, and helps purpose-driven entrepreneurs build profitable companies that are aligned with their values and life goals. Learn more here.\n\n \n\nMore reasons to register today!\n\nHere's what one of our recent retreat participants had to say about the experience:\n\n"This retreat was fantastic\, so well run\, and filled with valuable content. I highly recommend going to the next one. Victoria is knowledgeable\, nimble on her feet\, professional\, highly experienced\, gracious\, funny\, and a beautiful soul."\n\nHere's what some of our current clients have to say about coaching with Victoria:\n\n"Working with Victoria has opened my eyes and mind to possibilities I hadn't considered. She is an idea machine. She has a lot of compassion and can quickly identify pain points. I truly believe my business wouldn't be where it is now without her guidance and support." \n\n\n\n"Victoria has amazing insight and she is able to cut right to the heart of the matter. Her ideas are always on point."
X-ALT-DESC;FMTTYPE=text/html:<p><strong>It&#39\;s time to check in on your 2019 goals!</strong></p>\n\n<p>Whether you attended our&nbsp\;&#39\;Year of the Solopreneur&#39\; goal setting workshop in January\, or you&#39\;re just ready to check-in on how you&#39\;re doing in your business\, it&#39\;s a great idea to have a quarterly check-in.</p>\n\n<p><strong>In this one-hour workshop you will:</strong></p>\n\n<ul>\n	<li>\n	<p>Have an opportunity to review goals you set for yourself and your business at the beginning of the year\, and evaluate how you&#39\;re progressing.</p>\n	</li>\n	<li>\n	<p>Set some new goals that reflect where you are in Q2 and what you&#39\;d like to achieve in the rest of 2019.</p>\n	</li>\n	<li>\n	<p>Find hidden opportunities that will boost your energy\, and help you leap frog ahead in your business</p>\n	</li>\n	<li>\n	<p>Focus on profit and revenue targets that will guide you in the months ahead\, and help you make 2019 the best year your business has seen!</p>\n	</li>\n</ul>\n\n<p>&nbsp\;</p>\n\n<p><strong>You should attend this event if you are:</strong></p>\n\n<ul>\n	<li>\n	<p>Wanting some support and accountability around setting and sticking to goals</p>\n	</li>\n	<li>\n	<p>Needing a little head space to actually work ON your business and not just IN it.</p>\n	</li>\n	<li>\n	<p>Looking for inspiration to re-focus\, revitalize\, re-invigorate your business</p>\n	</li>\n	<li>\n	<p>Determined to make this year better than last\, and know that you need a little extra oomph to keep going.</p>\n	</li>\n</ul>\n\n<p>&nbsp\;</p>\n\n<p><strong>About the Presenter</strong></p>\n\n<p><strong><a href="https://www.dewpointcomms.com/meet-victoria-dew.html" target="_blank">Victoria Dew\, SCMP</a>&nbsp\;--&nbsp\;</strong><a href="http://www.dewpointcomms.com/" target="_blank"><strong>Dewpoint Communications</strong></a><br />\nVictoria knows first-hand how challenging being a solopreneur can be\, and is an expert at helping others to navigate their way through the highs and lows of building a business. She&nbsp\;is a certified business coach\, and helps purpose-driven entrepreneurs build profitable companies that are aligned with their values and life goals.&nbsp\;<a href="https://www.dewpointcomms.com/coaching.html" target="_blank">Learn more here.</a></p>\n\n<h2>&nbsp\;</h2>\n\n<h2>More<strong>&nbsp\;reasons to register today!</strong></h2>\n\n<p><strong>Here&#39\;s what one of our recent retreat participants had to say about the experience:</strong></p>\n\n<p><em>&quot\;This retreat was fantastic\, so well run\, and filled with valuable content. I highly recommend going to the next one. Victoria is knowledgeable\, nimble on her feet\, professional\, highly experienced\, gracious\, funny\, and a beautiful soul.&quot\;</em></p>\n\n<p><strong>Here&#39\;s what some of our current clients have to say about coaching with Victoria:</strong></p>\n\n<p><em>&quot\;Working with Victoria has opened my eyes and mind to possibilities I hadn&#39\;t considered. She is an idea machine. She has a lot of compassion and can quickly identify pain points. I truly believe my business wouldn&#39\;t be where it is now without her guidance and support.&quot\;&nbsp\;</em><br />\n<br />\n<em>&quot\;Victoria has amazing insight and she is able to cut right to the heart of the matter. Her ideas are always on point.&quot\;&nbsp\;</em></p>\n
LOCATION:CIC Cambridge One Broadway 5th Floor\, Santa Clara room Cambridge\, MA 02142
UID:e.2584.3847
SEQUENCE:3
DTSTAMP:20260424T235109Z
URL:https://business.cambridgechamber.org/events/details/the-year-of-the-solopreneur-q2-goals-clinic-3847
END:VEVENT

END:VCALENDAR
