BEGIN:VCALENDAR
VERSION:2.0
PRODID:-//ChamberMaster//Event Calendar 2.0//EN
METHOD:PUBLISH
X-PUBLISHED-TTL:P3D
REFRESH-INTERVAL:P3D
CALSCALE:GREGORIAN
BEGIN:VEVENT
DTSTART:20191203T150000Z
DTEND:20191219T010000Z
X-MICROSOFT-CDO-ALLDAYEVENT:FALSE
SUMMARY:The Salvation Army Angel Tree at CambridgeSide
DESCRIPTION:The Salvation Army Angel Tree at CambridgeSide\n\nDecember 3\, 2019 through December 18\, 2019 on Level 1\n\nBe an angel to a child in need from December 3 through December 18\, 2019 as CambridgeSide and The Salvation Army make children's holiday wishes come true! Each ornament has a child's name\, age and special gift wish. Select an ornament from the Angel Tree located at the Welcome Center on Level 1 and where your generous donation provides a helping hand to area families in need.
X-ALT-DESC;FMTTYPE=text/html:<strong><u><span style="font-family:arial\,sans-serif\;"><span style="font-size:11.0pt\;">The Salvation Army Angel Tree at CambridgeSide</span></span></u></strong><br />\n<strong><span style="font-family:arial\,sans-serif\;"><span style="font-size:11.0pt\;">December 3\, 2019 through December 18\, 2019 on Level 1</span></span></strong><br />\n<span style="font-family:arial\,sans-serif\;"><span style="font-size:11.0pt\;">Be an angel to a child in need from December 3 through December 18\, 2019 as CambridgeSide and The Salvation Army make children&rsquo\;s holiday wishes come true! Each ornament has a child&rsquo\;s name\, age and special gift wish. Select an ornament from the Angel Tree located at the Welcome Center on Level 1 and where your generous donation provides a helping hand to area families in need.</span></span>
LOCATION:
UID:e.2584.4665
SEQUENCE:3
DTSTAMP:20260424T094451Z
URL:https://business.cambridgechamber.org/events/details/the-salvation-army-angel-tree-at-cambridgeside-4665
END:VEVENT

END:VCALENDAR
