BEGIN:VCALENDAR
VERSION:2.0
PRODID:-//ChamberMaster//Event Calendar 2.0//EN
METHOD:PUBLISH
X-PUBLISHED-TTL:P3D
REFRESH-INTERVAL:P3D
CALSCALE:GREGORIAN
BEGIN:VEVENT
DTSTART:20191018T220000Z
DTEND:20191019T020000Z
X-MICROSOFT-CDO-ALLDAYEVENT:FALSE
SUMMARY:The Party Under the Harvest Moon
DESCRIPTION:Join hundreds of fellow food lovers as we gather to enjoy a dine-around experience generously donated by local restaurants and caterers during the Party Under the Harvest Moon\, an annual benefit for Food For Free. The event will include food and beverages generously donated by local restaurants and caterers\, live music\, and a silent auction.\n\n \n\nParty attendees will enjoy beer\, wine\, nibbles\, and desserts donated from Bisq\, Buenas Maxi Kiosko\, Cambridge Brewing Company\, Cambridge School of Culinary Arts\, Dave's Fresh Pasta\, Effie's Homemade\, Harvard University Dining Services\, Henrietta's Table\, iCater\, Insomnia Cookies\, La Brasa\, La F brica\, Mainely Burgers\, Middle East Restaurant and Nightclub\, Nubar\, Q's Nuts\, Royal East Restaurant\, Russell House Tavern\, Sofra Bakery & Cafe\, Something Savory Catering\, Spindler Confections\, Trina's Starlight Lounge\, Viale\, and Whole Heart Provisions.\n\n \n\nCar Talk's Ray Magliozzi and the Comedy Studio's Rick Jenkins will lead the evening as emcees along with Food For Free's Executive Director Sasha Purpura. Irish folk band The Lindsays will perform a mix of contemporary songs\, old ballads\, and Irish traditional jigs. The event will honor David Davidson and Crista Martin\, both of Harvard University Dining Services\, for their leadership in expanding food rescue on the Harvard campus.\n\n \n\nAuction items include a private in home three course dinner for eight prepared by Chef Martin Breslin and Chef Akeish Hayde of Harvard Dining Services\, two round trip plane tickets from Boston to Martha's Vineyard on Cape Air\, one month of fencing lessons for two at Boston Fencing Club\, assorted cheese and charcuterie gift basket from Jasper Hill Farms\, a private oyster shucking lesson and feast for 4 people with East Boston Oysters Company\, and more. Every dollar spent on tickets\, auction bids\, and donations will help Food For Free make healthy\, nutritious food more accessible to those in need.\n\n \n\nAll proceeds from the event go directly to support the nonprofit's food rescue\, school\, and transportation programs as well as the organization's innovative meal program\, Family Meals.  Since 1981\, Cambridge-based Food For Free\, has responded to local hunger by rescuing food that would otherwise go to waste\, and distributing it to local emergency food programs including food pantries\, youth programs\, shelters\, and more. Through a combination of food rescue\, direct-service\, farming\, and transportation programs\, the organization's year-round services give people access to fresh fruits and vegetables\, which are typically lacking from the diets of low-income individuals and families.\n\n \n\nThe event is made possible by the support of Food For Free's Leadership Sponsors: Biogen\, Cambridge Savings Bank\, and MIT\, as well as two dozen other sponsors. \n\n \n\nParty Under the Harvest Moon will take place from 6 to 10 p.m. at MIT's Morss Hall\, located at 142 Memorial Drive in Cambridge. Tickets are $75 each. For more information or to reserve tickets\, visit: http://www.foodforfree.org/party
X-ALT-DESC;FMTTYPE=text/html:<p style="margin:0in\;margin-bottom:.0001pt"><span style="font-family:&quot\;Arial&quot\;\,sans-serif\;\ncolor:black">Join hundreds of fellow food lovers as we gather to enjoy a dine-around experience generously donated by local restaurants and caterers during the Party Under the Harvest Moon\, an annual benefit for Food For Free. The event will include food and beverages generously donated by local restaurants and caterers\, live music\, and a silent auction.</span><o:p></o:p></p>\n\n<p style="margin:0in\;margin-bottom:.0001pt"><o:p>&nbsp\;</o:p></p>\n\n<p style="margin:0in\;margin-bottom:.0001pt"><span style="font-family:&quot\;Arial&quot\;\,sans-serif\;\ncolor:black">Party attendees will enjoy beer\, wine\, nibbles\, and desserts donated from Bisq\, Buenas Maxi Kiosko\, Cambridge Brewing Company\, Cambridge School of Culinary Arts\, Dave&#39\;s Fresh Pasta\, Effie&#39\;s Homemade\, Harvard University Dining Services\, Henrietta&#39\;s Table\, iCater\, Insomnia Cookies\, La Brasa\, La F&aacute\;brica\, Mainely Burgers\, Middle East Restaurant and Nightclub\, Nubar\, Q&#39\;s Nuts\, Royal East Restaurant\, Russell House Tavern\, Sofra Bakery &amp\; Cafe\, Something Savory Catering\, Spindler Confections\, Trina&#39\;s Starlight Lounge\, Viale\, and Whole Heart Provisions.</span><o:p></o:p></p>\n\n<p style="margin:0in\;margin-bottom:.0001pt"><o:p>&nbsp\;</o:p></p>\n\n<p style="margin:0in\;margin-bottom:.0001pt"><span style="font-family:&quot\;Arial&quot\;\,sans-serif\;\ncolor:black">Car Talk&rsquo\;s Ray Magliozzi and the Comedy Studio&rsquo\;s Rick Jenkins will lead the evening as emcees along with Food For Free&rsquo\;s Executive Director Sasha Purpura. Irish folk band The Lindsays will perform a mix of contemporary songs\, old ballads\, and Irish traditional jigs. The event will honor David Davidson and Crista Martin\, both of Harvard University Dining Services\, for their leadership in expanding food rescue on the Harvard campus.</span><o:p></o:p></p>\n\n<p style="margin:0in\;margin-bottom:.0001pt"><o:p>&nbsp\;</o:p></p>\n\n<p style="margin:0in\;margin-bottom:.0001pt"><span style="font-family:&quot\;Arial&quot\;\,sans-serif\;\ncolor:black">Auction items include a private in home three course dinner for eight prepared by Chef Martin Breslin and Chef Akeish Hayde of Harvard Dining Services\, two round trip plane tickets from Boston to Martha&rsquo\;s Vineyard on Cape Air\, one month of fencing lessons for two at Boston Fencing Club\, assorted cheese and charcuterie gift basket from Jasper Hill Farms\, a private oyster shucking lesson and feast for 4 people with East Boston Oysters Company\, and more. Every dollar spent on tickets\, auction bids\, and donations will help Food For Free make healthy\, nutritious food more accessible to those in need.</span><o:p></o:p></p>\n\n<p style="margin:0in\;margin-bottom:.0001pt"><o:p>&nbsp\;</o:p></p>\n\n<p style="margin:0in\;margin-bottom:.0001pt"><span style="font-family:&quot\;Arial&quot\;\,sans-serif\;\ncolor:black">All proceeds from the event go directly to support the nonprofit&rsquo\;s food rescue\, school\, and transportation programs as well as the organization&rsquo\;s innovative meal program\, Family Meals.&nbsp\; Since 1981\, Cambridge-based Food For Free\, has responded to local hunger by rescuing food that would otherwise go to waste\, and distributing it to local emergency food programs including food pantries\, youth programs\, shelters\, and more. Through a combination of food rescue\, direct-service\, farming\, and transportation programs\, the organization&rsquo\;s year-round services give people access to fresh fruits and vegetables\, which are typically lacking from the diets of low-income individuals and families.</span><o:p></o:p></p>\n\n<p style="margin:0in\;margin-bottom:.0001pt"><o:p>&nbsp\;</o:p></p>\n\n<p style="margin:0in\;margin-bottom:.0001pt"><span style="font-family:&quot\;Arial&quot\;\,sans-serif\;\ncolor:black">The event is made possible by the support of Food For Free&rsquo\;s Leadership Sponsors: Biogen\, Cambridge Savings Bank\, and MIT\, as well as two dozen other sponsors.&nbsp\;</span><o:p></o:p></p>\n\n<p style="margin:0in\;margin-bottom:.0001pt"><o:p>&nbsp\;</o:p></p>\n\n<p style="margin:0in\;margin-bottom:.0001pt"><span style="font-family:&quot\;Arial&quot\;\,sans-serif\;\ncolor:black">Party Under the Harvest Moon will take place from 6 to 10 p.m. at MIT&rsquo\;s Morss Hall\, located at 142 Memorial Drive in Cambridge. Tickets are $75 each. For more information or to reserve tickets\, visit: <a href="http://www.foodforfree.org/party">http://www.foodforfree.org/party</a></span><o:p></o:p></p>\n
LOCATION:MIT's Morss Hall 142 Memorial Drive
UID:e.2584.4622
SEQUENCE:3
DTSTAMP:20260424T112515Z
URL:https://business.cambridgechamber.org/events/details/the-party-under-the-harvest-moon-4622
END:VEVENT

END:VCALENDAR
