BEGIN:VCALENDAR
VERSION:2.0
PRODID:-//ChamberMaster//Event Calendar 2.0//EN
METHOD:PUBLISH
X-PUBLISHED-TTL:P3D
REFRESH-INTERVAL:P3D
CALSCALE:GREGORIAN
BEGIN:VEVENT
DTSTART:20190603T220000Z
DTEND:20190604T010000Z
X-MICROSOFT-CDO-ALLDAYEVENT:FALSE
SUMMARY:The Office Trivia
DESCRIPTION:Oh my god it's happening... everybody stay calm!\n\nThe Office Trivia is coming to Glass House to kick off our Monday night patio trivia series!\n\nDid we stutter!? Let us break it down for you...\n\n\n	Trivia begins at 6:00pm but we encourage you to come early for dinner & drinks\n\n\n\n	Registration is first come\, first served and CLOSES after the first 35 teams have signed up (teams cannot exceed 6 people)\n	Trivia will be held outside on our patio. In the case of inclement weather\, trivia will move to our sister location Hurricane's at the Gardenby North Station \n\n\nDon't want to come? Fine. We're sorry we annoyed you with our friendship.\n\nPlease note: RSVP does NOT guarantee a team or table. We recommend coming early as we cannot accommodate everyone.
X-ALT-DESC;FMTTYPE=text/html:<h2>Oh my god it&#39\;s happening... everybody stay calm!</h2>\n\n<h4>The Office Trivia is coming to Glass House to kick off our Monday night patio trivia series!</h4>\n\n<p>Did we stutter!? Let us break it down for you...</p>\n\n<ul>\n	<li>Trivia begins at 6:00pm but we encourage you to come early for&nbsp\;<a href="https://www.glasshousecambridge.com/menus/" rel="nofollow noopener noreferrer" style="color: var(--eds-control\,#3659e3)\; text-decoration-line: none\; cursor: pointer\; background-color: transparent\; padding-top: 0px\;" target="_blank" title="dinner">dinner</a>&nbsp\;&amp\;&nbsp\;<a href="https://www.glasshousecambridge.com/menus/#drinks" rel="nofollow noopener noreferrer" style="color: var(--eds-control\,#3659e3)\; text-decoration-line: none\; cursor: pointer\; background-color: transparent\;" target="_blank" title="drinks">drinks</a></li>\n</ul>\n\n<ul>\n	<li>Registration is first come\, first served and CLOSES after the first 35 teams have signed up (teams cannot exceed 6 people)</li>\n	<li>Trivia will be held outside on our patio. In the case of inclement weather\, trivia will move to our sister location&nbsp\;<a href="https://www.hurricanesboston.com/" rel="nofollow noopener noreferrer" style="color: var(--eds-control\,#3659e3)\; text-decoration-line: none\; cursor: pointer\; background-color: transparent\; padding-top: 0px\;" target="_blank" title="Hurricane's at the Garden">Hurricane&#39\;s at the Garden</a>by North Station&nbsp\;</li>\n</ul>\n\n<p>Don&#39\;t want to come? Fine. We&#39\;re sorry we annoyed you with our friendship.</p>\n\n<p><em>Please note: RSVP does NOT guarantee a team or table. We recommend coming early as we cannot accommodate everyone.</em></p>\n
LOCATION:Glass House 450 Kendall Street Cambridge\, MA 02142
UID:e.2584.4555
SEQUENCE:3
DTSTAMP:20260424T182154Z
URL:https://business.cambridgechamber.org/events/details/the-office-trivia-06-03-2019-4555
END:VEVENT

END:VCALENDAR
