BEGIN:VCALENDAR
VERSION:2.0
PRODID:-//ChamberMaster//Event Calendar 2.0//EN
METHOD:PUBLISH
X-PUBLISHED-TTL:P3D
REFRESH-INTERVAL:P3D
CALSCALE:GREGORIAN
BEGIN:VEVENT
DTSTART:20210821T000000Z
DTEND:20210821T040000Z
X-MICROSOFT-CDO-ALLDAYEVENT:FALSE
SUMMARY:The Middle East Presents: Zola Simone\, Yavin
DESCRIPTION:Come celebrate the release of Now You See Me\, the debut album by Zola Simone being released on August 20\, 2021. The 1st three singles released off of the album have racked up over a half a million streams\, including "Easy\," which was featured in the series finale of Atypical on Netflix. For 18-year-old singer-songwriter\, Zola Simone\, music is much more than just a passion\; it's a way to make sense of the world and move through the ever-changing conditions of life. Her unique and refreshing sound that blends indie\, pop\, and R&B matched with her raw\, vulnerable\, and honest lyrics is what sets her apart from many of her peers. At such a young age\, she has already learned the importance of her individuality and is not afraid to unapologetically express herself as an artist through her music and her aesthetic. Zola Simone's music manages to traverse the challenging terrain of being both deeply personal and undeniably relatable. www.zolasimonemusic.com
X-ALT-DESC;FMTTYPE=text/html:Come celebrate the release of Now You See Me\, the debut album by Zola Simone being released on August 20\, 2021. The 1st three singles released off of the album have racked up over a half a million streams\, including &ldquo\;Easy\,&rdquo\; which was featured in the series finale of Atypical on Netflix. For 18-year-old singer-songwriter\, Zola Simone\, music is much more than just a passion\; it&rsquo\;s a way to make sense of the world and move through the ever-changing conditions of life. Her unique and refreshing sound that blends indie\, pop\, and R&amp\;B matched with her raw\, vulnerable\, and honest lyrics is what sets her apart from many of her peers. At such a young age\, she has already learned the importance of her individuality and is not afraid to unapologetically express herself as an artist through her music and her aesthetic. Zola Simone&rsquo\;s music manages to traverse the challenging terrain of being both deeply personal and undeniably relatable. www.zolasimonemusic.com
LOCATION:Middle East - Upstairs 472 Massachusetts Ave Cambridge\, MA 02139
UID:e.2584.6086
SEQUENCE:3
DTSTAMP:20260423T034929Z
URL:https://business.cambridgechamber.org/events/details/the-middle-east-presents-zola-simone-yavin-6086
END:VEVENT

END:VCALENDAR
