BEGIN:VCALENDAR
VERSION:2.0
PRODID:-//ChamberMaster//Event Calendar 2.0//EN
METHOD:PUBLISH
X-PUBLISHED-TTL:P3D
REFRESH-INTERVAL:P3D
CALSCALE:GREGORIAN
BEGIN:VEVENT
DTSTART:20201208T143000Z
DTEND:20201208T153000Z
X-MICROSOFT-CDO-ALLDAYEVENT:FALSE
SUMMARY:The Future is 5G
DESCRIPTION:The Future is 5G:\n\nHow 5G will fundamentally change the education\, healthcare and wireless communications industries.\n\n\n	\n	What you need to know \n	\n	\n	Why 5G infrastructure is important \n	\n	How it can spur innovation\n\n Hear from experts in the realms of education\, healthcare and wireless communications to learn more about the benefits of 5G. \n\n \nMeet our panelists:\n\nModerator: Joe Shannon\, Government Affairs Manager - New England: Crown Castle  \n\nJose Escobar\, Director Smart Communities: Verizon\n\nPhil Raymond\, Connected Care Connectivity Leader: Philips\n\nIsaac Van Wesep\, President: TeacherMade
X-ALT-DESC;FMTTYPE=text/html:<p><span style="font-size:26px\;"><span style="font-family:arial\;"><strong>The Future is 5G:</strong><br />\nHow 5G will fundamentally change&nbsp\;the education\, healthcare and wireless communications industries.</span></span></p>\n\n<ul>\n	<li>\n	<p><span style="font-size:26px\;"><span style="font-family:arial\;">What you need to know&nbsp\;</span></span></p>\n	</li>\n	<li>\n	<p><span style="font-size:26px\;"><span style="font-family:arial\;">Why 5G infrastructure is important&nbsp\;</span></span></p>\n	</li>\n	<li><span style="font-size:26px\;"><span style="font-family:arial\;">How it can spur innovation</span></span></li>\n</ul>\n<span style="font-size:26px\;"><span style="font-family:arial\;">&#8203\;Hear from experts in the realms of education\, healthcare and wireless communications to learn more about the benefits of 5G.&nbsp\;</span></span><br />\n&nbsp\;\n<div style="color: rgb(64\, 63\, 66)\; font-family: Arial\, Verdana\, Helvetica\, sans-serif\; font-size: 20px\; white-space: pre-wrap\; background-color: rgb(255\, 255\, 255)\;"><span style="font-family:arial\;"><span style="color: rgb(68\, 68\, 68)\; text-decoration-line: underline\; font-weight: bold\;">Meet our panelists:</span></span></div>\n\n<div style="color: rgb(64\, 63\, 66)\; font-family: Arial\, Verdana\, Helvetica\, sans-serif\; font-size: 20px\; white-space: pre-wrap\; background-color: rgb(255\, 255\, 255)\;"><span style="font-family:arial\;"><span style="font-weight: bold\;">Moderator:</span> <span style="color: rgb(68\, 68\, 68)\; font-weight: bold\;">Joe Shannon</span><span style="color: rgb(68\, 68\, 68)\;">\, Government Affairs Manager - New England:&nbsp\;</span><a href="https://www.crowncastle.com/" rel="noopener noreferrer" style="text-decoration-line: none\; color: rgb(34\, 72\, 132)\; font-family: &quot\;Trebuchet MS&quot\;\, Verdana\, Helvetica\, sans-serif\;" target="_blank">Crown Castle</a><span style="color: rgb(68\, 68\, 68)\;">&nbsp\;&nbsp\;</span></span></div>\n\n<div style="color: rgb(64\, 63\, 66)\; font-family: Arial\, Verdana\, Helvetica\, sans-serif\; font-size: 20px\; white-space: pre-wrap\; background-color: rgb(255\, 255\, 255)\;"><span style="font-family:arial\;"><span style="color: rgb(68\, 68\, 68)\; font-weight: bold\;">Jose Escobar</span><span style="color: rgb(68\, 68\, 68)\;">\, Director Smart Communities:&nbsp\;</span><a data-link-type="web" href="https://www.verizon.com/business/solutions/public-sector/" rel="noopener noreferrer" style="text-decoration-line: none\; color: rgb(34\, 72\, 132)\; font-family: &quot\;Trebuchet MS&quot\;\, Verdana\, Helvetica\, sans-serif\;" target="_blank">Verizon</a></span></div>\n\n<div style="color: rgb(64\, 63\, 66)\; font-family: Arial\, Verdana\, Helvetica\, sans-serif\; font-size: 20px\; white-space: pre-wrap\; background-color: rgb(255\, 255\, 255)\;"><span style="font-family:arial\;"><span style="color: rgb(68\, 68\, 68)\; font-weight: bold\;">Phil Raymond</span><span style="color: rgb(68\, 68\, 68)\;">\, Connected Care Connectivity Leader:&nbsp\;</span><a data-link-type="web" href="https://www.usa.philips.com/healthcare" rel="noopener noreferrer" style="text-decoration-line: none\; color: rgb(34\, 72\, 132)\; font-family: &quot\;Trebuchet MS&quot\;\, Verdana\, Helvetica\, sans-serif\;" target="_blank">Philips</a></span></div>\n\n<div style="color: rgb(64\, 63\, 66)\; font-family: Arial\, Verdana\, Helvetica\, sans-serif\; font-size: 20px\; white-space: pre-wrap\; background-color: rgb(255\, 255\, 255)\;"><span style="font-family:arial\;"><span style="color: rgb(68\, 68\, 68)\; font-weight: bold\;">Isaac Van Wesep\,</span><span style="color: rgb(68\, 68\, 68)\;"> President:&nbsp\;</span><a href="https://teachermade.com/" rel="noopener noreferrer" style="text-decoration-line: none\; color: rgb(34\, 72\, 132)\; font-family: &quot\;Trebuchet MS&quot\;\, Verdana\, Helvetica\, sans-serif\;" target="_blank">TeacherMad</a><a data-link-type="undefined" href="http://teachermade.com/" rel="noopener noreferrer" style="text-decoration-line: none\; color: rgb(34\, 72\, 132)\; font-family: &quot\;Trebuchet MS&quot\;\, Verdana\, Helvetica\, sans-serif\;" target="_blank">e</a></span></div>\n<br />\n&nbsp\;
LOCATION:Webinar hosted by BlueJeans
UID:e.2584.5473
SEQUENCE:3
DTSTAMP:20260423T143642Z
URL:https://business.cambridgechamber.org/events/details/the-future-is-5g-5473
END:VEVENT

END:VCALENDAR
