BEGIN:VCALENDAR
VERSION:2.0
PRODID:-//ChamberMaster//Event Calendar 2.0//EN
METHOD:PUBLISH
X-PUBLISHED-TTL:P3D
REFRESH-INTERVAL:P3D
CALSCALE:GREGORIAN
BEGIN:VEVENT
DTSTART:20190918T170000Z
DTEND:20190918T190000Z
X-MICROSOFT-CDO-ALLDAYEVENT:FALSE
SUMMARY:The Brother's Marketplace Recruitment
DESCRIPTION:Roche Bros will be opening a new supermarket on Broadway St. in Cambridge.  MassHire will be holding a recruitment for The Brother's Marketplace on September 18th to fill the openings.   There will be on the spot interviews for various positions.
X-ALT-DESC;FMTTYPE=text/html:Roche Bros will be opening a new supermarket on Broadway St. in Cambridge.&nbsp\; MassHire will be holding a recruitment for The Brother&#39\;s Marketplace on September 18th to fill the openings. &nbsp\; There will be on the spot interviews for various positions.
LOCATION:MassHire Metro North Cambridge 186 Alewife Brook Parkway Cambridge\, MA 02138
UID:e.2584.4614
SEQUENCE:3
DTSTAMP:20260424T130237Z
URL:https://business.cambridgechamber.org/events/details/the-brother-s-marketplace-recruitment-4614
END:VEVENT

END:VCALENDAR
