BEGIN:VCALENDAR
VERSION:2.0
PRODID:-//ChamberMaster//Event Calendar 2.0//EN
METHOD:PUBLISH
X-PUBLISHED-TTL:P3D
REFRESH-INTERVAL:P3D
CALSCALE:GREGORIAN
BEGIN:VEVENT
DTSTART:20211116T233000Z
DTEND:20211117T003000Z
X-MICROSOFT-CDO-ALLDAYEVENT:FALSE
SUMMARY:The BARCC Forum: A Conversation with Writer Grace Talusan
DESCRIPTION:The BARCC Forum: Conversations for Understanding\, Healing\, and Social Change is a new event series hosted by the Boston Area Rape Crisis Center that explores the topic of sexual violence within the intersection of other major issues such as race\, gender\, immigration\, economic stability\, and mental health. We hope to keep survivors centered within these issues and have their voices feel heard.\n\nOur inaugural forum will feature a keynote conversation with Grace Talusan\, author of The Body Papers. In her memoir\, Grace explores how the abuse and trauma she suffered as a child affects her relationships\, her mental health\, and her relationship with her own body. It also covers the intersection of sexual violence\, racism\, and immigration status and how these issues compound one's trauma. This conversation will be moderated by Latoyia Edwards\, Emmy Award-winning anchor on NBC10 Boston and NECN.
X-ALT-DESC;FMTTYPE=text/html:<div>The BARCC Forum: Conversations for Understanding\, Healing\, and Social Change is a new event series hosted by the Boston Area Rape Crisis Center that explores the topic of sexual violence within the intersection of other major issues such as race\, gender\, immigration\, economic stability\, and mental health. We hope to keep survivors centered within these issues and have their voices feel heard.</div>\n\n<p>Our inaugural forum will feature a keynote conversation with&nbsp\;<a href="https://www.gracetalusan.com/" style="box-sizing: border-box\; color: rgb(39\, 22\, 70)\; text-decoration-line: none\; background-color: transparent\; box-shadow: none\; border-bottom: 1px solid rgb(170\, 200\, 60) !important\;" target="_blank">Grace Talusan</a>\, author of&nbsp\;<a href="https://www.papercutsjp.com/book/9781632060242" style="box-sizing: border-box\; color: rgb(39\, 22\, 70)\; text-decoration-line: none\; background-color: transparent\; box-shadow: none\; border-bottom: 1px solid rgb(170\, 200\, 60) !important\;" target="_blank"><em>The Body Papers</em></a>. In her memoir\, Grace explores how the abuse and trauma she suffered as a child affects her relationships\, her mental health\, and her relationship with her own body. It also covers the intersection of sexual violence\, racism\, and immigration status and how these issues compound one&rsquo\;s trauma. This conversation will be moderated by Latoyia Edwards\, Emmy Award-winning anchor on NBC10 Boston and NECN.</p>\n
LOCATION:Virtual
UID:e.2584.6140
SEQUENCE:3
DTSTAMP:20260422T230310Z
URL:https://business.cambridgechamber.org/events/details/the-barcc-forum-a-conversation-with-writer-grace-talusan-6140
END:VEVENT

END:VCALENDAR
