BEGIN:VCALENDAR
VERSION:2.0
PRODID:-//ChamberMaster//Event Calendar 2.0//EN
METHOD:PUBLISH
X-PUBLISHED-TTL:P3D
REFRESH-INTERVAL:P3D
CALSCALE:GREGORIAN
BEGIN:VEVENT
DTSTART:20190716T210000Z
DTEND:20190717T000000Z
X-MICROSOFT-CDO-ALLDAYEVENT:FALSE
SUMMARY:The 17th Annual Taste of Cambridge
DESCRIPTION:Featuring the best restaurants in Cambridge including exciting new participants!\n\n\n\nCambridge is one of the most widely recognized restaurant destinations in the region and each year\, thousands of foodies descend upon the Taste of Cambridge to sample the delicious\, creative\, and award-winning cuisine that gives Cambridge it's well-deserved reputation. The Taste is one of the great food sampling experiences in the region and features some of the best local restaurants (including exciting new participants!)\, specialty food purveyors\, wine\, beer\, and summer cocktails.\n\n\n\nThis year\, the Taste of Cambridge returns to its previous location at University Park. The Taste of Cambridge transforms University Park into a lush haven for gastronomical indulgences of the highest order!
X-ALT-DESC;FMTTYPE=text/html:<span style="font-size:20px\;"><span style="font-family:arial\;"><span style="padding-top:0px\;">Featuring the best restaurants in Cambridge including exciting new participants!</span><br />\n<br />\nCambridge is one of the most widely recognized restaurant destinations in the region and each year\, thousands of foodies descend upon the Taste of Cambridge to sample the delicious\, creative\, and award-winning cuisine that gives Cambridge it&rsquo\;s well-deserved reputation. The Taste is one of the great food sampling experiences in the region and features some of the best local restaurants (including exciting new participants!)\, specialty food purveyors\, wine\, beer\, and summer cocktails.<br />\n<br />\nThis year\, the Taste of Cambridge returns to its previous location at University Park. The Taste of Cambridge transforms University Park into a lush haven for gastronomical indulgences of the highest order!</span></span><br />\n&nbsp\;
LOCATION:University Park\, Central Square\, Cambridge
UID:e.2584.4563
SEQUENCE:3
DTSTAMP:20260424T164446Z
URL:https://business.cambridgechamber.org/events/details/the-17th-annual-taste-of-cambridge-4563
END:VEVENT

END:VCALENDAR
