BEGIN:VCALENDAR
VERSION:2.0
PRODID:-//ChamberMaster//Event Calendar 2.0//EN
METHOD:PUBLISH
X-PUBLISHED-TTL:P3D
REFRESH-INTERVAL:P3D
CALSCALE:GREGORIAN
BEGIN:VEVENT
DTSTART:20200328T230000Z
DTEND:20200329T033000Z
X-MICROSOFT-CDO-ALLDAYEVENT:FALSE
SUMMARY:The 13th Annual International School of Boston Benefit Gala
DESCRIPTION:Now in its 13th year\, the ISB Benefit Gala is our largest annual fundraising event. Attended by more than 200 guests\, raising an average of $100\,000 for the Annual Fund\, the gala is an evening of glamour\, cocktails\, dinner\, dancing\, live auctions\, and raffles -- but above all\, a celebration of educational excellence\, international friendships\, bilingualism\, and a wonderful opportunity to support our school.\n\n\n\nBuy your tickets or see Sponsorship Opportunities.
X-ALT-DESC;FMTTYPE=text/html:<span style="font-size:12px"><span style="font-family:arial\,helvetica\,sans-serif">Now in its 13th year\, the ISB Benefit Gala&nbsp\;is our largest annual fundraising event. Attended by more than 200 guests\, raising an average of $100\,000 for the Annual Fund\, the gala is an evening of glamour\, cocktails\, dinner\, dancing\, live auctions\, and raffles -- but above all\, a celebration of educational excellence\, international friendships\, bilingualism\, and a wonderful opportunity to support our school.<br />\n<br />\n<a href="http://isbgala2020.givesmart.com">Buy your tickets or see Sponsorship Opportunities</a><strong>.</strong></span></span><br />\n&nbsp\;
LOCATION:Samberg Center at MIT 50 Memorial Dr Cambridge\, MA 02142
UID:e.2584.5367
SEQUENCE:3
DTSTAMP:20260424T051246Z
URL:https://business.cambridgechamber.org/events/details/the-13th-annual-international-school-of-boston-benefit-gala-5367
END:VEVENT

END:VCALENDAR
