BEGIN:VCALENDAR
VERSION:2.0
PRODID:-//ChamberMaster//Event Calendar 2.0//EN
METHOD:PUBLISH
X-PUBLISHED-TTL:P3D
REFRESH-INTERVAL:P3D
CALSCALE:GREGORIAN
BEGIN:VEVENT
DTSTART:20190506T180000Z
DTEND:20190506T193000Z
X-MICROSOFT-CDO-ALLDAYEVENT:FALSE
SUMMARY:Talking Tourism – How to Reach the Cambridge Tourist Market\, 2:00-3:30 p.m.
DESCRIPTION:Tourists are a growing part of the Cambridge economy\, whether they are local tourists looking to enjoy something new or world travelers coming to Cambridge for the first time. Attend this workshop to learn more about the Cambridge tourism industry and opportunities for your business to market to tourists. Presenter: Robyn Culbertson\, Executive Director of Cambridge Office of Tourism.  Free to all\, but priority will be given to Cambridge business owners.
X-ALT-DESC;FMTTYPE=text/html:<span style="color:rgb(0\, 0\, 0)\; font-family:myriad-pro\,arial\,helvetica\,sans-serif\; font-size:13.98px">Tourists are a growing part of the Cambridge economy\, whether they are local tourists looking to enjoy something new or world travelers coming to Cambridge for the first time. Attend this workshop to learn more about the Cambridge tourism industry and opportunities for your business to market to tourists. Presenter: Robyn Culbertson\, Executive Director of Cambridge Office of Tourism.&nbsp\; Free to all\, but priority will be given to Cambridge business owners.&nbsp\;</span>
LOCATION:Cambridge Public Library - Main Branch\, 449 Broadway\, Level L2
UID:e.2584.4480
SEQUENCE:3
DTSTAMP:20260424T202013Z
URL:https://business.cambridgechamber.org/events/details/talking-tourism-how-to-reach-the-cambridge-tourist-market-2-00-3-30-p-m-4480
END:VEVENT

END:VCALENDAR
