BEGIN:VCALENDAR
VERSION:2.0
PRODID:-//ChamberMaster//Event Calendar 2.0//EN
METHOD:PUBLISH
X-PUBLISHED-TTL:P3D
REFRESH-INTERVAL:P3D
CALSCALE:GREGORIAN
BEGIN:VEVENT
DTSTART:20190925T220000Z
DTEND:20190925T230000Z
X-MICROSOFT-CDO-ALLDAYEVENT:FALSE
SUMMARY:Take the STRESS Out of Interviewing - Changing Your Mindset to Maximize Success Every Time!
DESCRIPTION:Take the STRESS Out of Interviewing\n\nChanging Your Mindset to Maximize Success Every Time!\n\nWednesday\, September 25\, 2019 6   7 pm\n\nStaples\n\n1660 Soldiers Field Road\n\nBoston\, MA 02135\n\nDo interviews stress you out?\n\nBeen a long time since your last interview?\n\nJoin Bryan Nadeau from Vision to Reality Coaching for this free presentation on Wednesday\, September 25\, 2019 from 6 pm   7 pm to learn tips\, strategies and how to answer those behavior questions that will help you be more confident and relaxed. Allowing you to ace the interview process and get that job you are passionate about.\n\nYou will learn how to:\n\n	Write your story\n	Practice telling your story\n	Tell your story with confidence\n	Recap your interview successes and learnings\n\nClick here to get your free tickets. Space is limited. Don't wait.\n\n \n\nBryan Nadeau\, CEO and Founder of Vision to Reality Coaching\, has extensive experience as an entrepreneur\, cross-functional team leader\, manager and individual contributor. Helping leaders\, managers\, and up-and-coming talent develop and expand new perspectives\, attitudes\, skills and behaviors for career success and performance gains. Through a program that helps individuals and teams go from goal to result\, positioning individuals and teams in the most impactful and effective manner to proactively achieve results. In his practice\, Bryan's approach consistently leads clients to identify actions for immediate impact\, sustainable change and measurable results. He is your advisor helping you address your personal and professional needs and requirements\, to enhance your ability to lead with greater influence and impact. And that is how you can make your vision a reality. www.visiontorealitycoaching.com
X-ALT-DESC;FMTTYPE=text/html:&nbsp\;&nbsp\;&nbsp\;&nbsp\;&nbsp\;&nbsp\;&nbsp\;&nbsp\;&nbsp\;&nbsp\;&nbsp\;&nbsp\;&nbsp\;&nbsp\;&nbsp\;&nbsp\;&nbsp\;&nbsp\;&nbsp\;&nbsp\;&nbsp\;&nbsp\;&nbsp\;&nbsp\;&nbsp\;&nbsp\;&nbsp\;&nbsp\;&nbsp\;&nbsp\;&nbsp\;&nbsp\;&nbsp\;&nbsp\;&nbsp\;&nbsp\;&nbsp\;&nbsp\;&nbsp\;&nbsp\;&nbsp\;&nbsp\;&nbsp\;&nbsp\;&nbsp\;&nbsp\;<br />\n<span style="font-size:28px"><span style="color:black">Take the </span><span style="color:red">STRESS</span> <span style="color:black">Out of Interviewing</span></span><br />\n<strong><span style="font-size:17.0pt">Changing Your Mindset to Maximize Success Every Time!</span></strong><br />\n<strong><span style="font-size:17.0pt">Wednesday\, September 25\, 2019 6 &ndash\; 7 pm</span></strong><br />\n<strong><span style="font-size:17.0pt">Staples</span></strong><br />\n<strong><span style="font-size:17.0pt">1660 Soldiers Field Road</span></strong><br />\n<strong><span style="font-size:17.0pt">Boston\, MA 02135</span></strong><br />\nDo interviews stress you out?<br />\nBeen a long time since your last interview?<br />\nJoin Bryan Nadeau from Vision to Reality Coaching for this free presentation on Wednesday\, September 25\, 2019 from 6 pm &ndash\; 7 pm to learn tips\, strategies and how to answer those behavior questions that will help you be more confident and relaxed. Allowing you to ace the interview process and get that job you are passionate about.<br />\nYou will learn how to:\n<ul>\n	<li>Write your story</li>\n	<li>Practice telling your story</li>\n	<li>Tell your story with confidence</li>\n	<li>Recap your interview successes and learnings</li>\n</ul>\n<span style="font-size:22.0pt">Click </span><a href="https://www.eventbrite.com/e/take-the-stress-out-of-interviewing-tickets-70531705229"><span style="font-size:22.0pt">here</span></a><span style="font-size:22.0pt"> to get your free tickets. Space is limited. Don&rsquo\;t wait.</span><br />\n&nbsp\;<br />\nBryan Nadeau\, CEO and Founder of Vision to Reality Coaching\, has extensive experience as an entrepreneur\, cross-functional team leader\, manager and individual contributor. Helping leaders\, managers\, and up-and-coming talent develop and expand new perspectives\, attitudes\, skills and behaviors for career success and performance gains. Through a program that helps individuals and teams go from goal to result\, positioning individuals and teams in the most impactful and effective manner to proactively achieve results. In his practice\, Bryan&rsquo\;s approach consistently leads clients to identify actions for immediate impact\, sustainable change and measurable results. He is your advisor helping you address your personal and professional needs and requirements\, to enhance your ability to lead with greater influence and impact. And that is how you can make your vision a reality. <a href="http://www.visiontorealitycoaching.com">www.visiontorealitycoaching.com</a><br />\n&nbsp\;
LOCATION:Staples 1660 Soldiers Field Road Boston\, MA 02135
UID:e.2584.4612
SEQUENCE:3
DTSTAMP:20260424T130411Z
URL:https://business.cambridgechamber.org/events/details/take-the-stress-out-of-interviewing-changing-your-mindset-to-maximize-success-every-time-09-25-2019-4612
END:VEVENT

END:VCALENDAR
