BEGIN:VCALENDAR
VERSION:2.0
PRODID:-//ChamberMaster//Event Calendar 2.0//EN
METHOD:PUBLISH
X-PUBLISHED-TTL:P3D
REFRESH-INTERVAL:P3D
CALSCALE:GREGORIAN
BEGIN:VEVENT
DTSTART:20200219T233000Z
DTEND:20200220T003000Z
X-MICROSOFT-CDO-ALLDAYEVENT:FALSE
SUMMARY:Take the STRESS Out of Interviewing - Changing Your Mindset to Maximize Success Every Time!
DESCRIPTION:Do interviews stress you out?\n\nBeen a long time since your last interview?\n\nJoin Bryan Nadeau from Vision to Reality Coaching for this free presentation on Wednesday\, February 19\, 2020 from 6:30 pm   7:30 pm to learn tips\, strategies and how to answer those behavior questions that will help you be more confident and relaxed. Allowing you to ace the interview process and get that job you are passionate about.\n\nYou will learn how to:\n\n\n	Write your story\n	Practice telling your story\n	Tell your story with confidence\n	Recap your interview successes and learnings\n\n\nRegister here: https://www.eventbrite.com/e/take-the-stress-out-of-interviewing-tickets-94230392641?fbclid=IwAR3u7BqwsFI0J8cq-UopE-tOl871TAg7pa5tkn1sycY3JPkXgpT8fxn8wDI\n\nAbout the Facilitator\n\nBryan Nadeau\, CEO and Founder of Vision to Reality Coaching\, has extensive experience as an entrepreneur\, cross-functional team leader\, manager and individual contributor. He helps leaders\, managers\, and up-and-coming talent develop and expand new perspectives\, attitudes\, skills and behaviors for career success and performance gains through a program that helps individuals and teams go from goal to result\, positioning them in the most impactful and effective manner to proactively achieve results. In his practice\, Bryan's approach consistently leads clients to identify actions for immediate impact\, sustainable change and measurable results. He is your advisor helping you address your personal and professional needs and requirements\, to enhance your ability to lead with greater influence and impact. And that is how you can make your vision a reality. www.visiontorealitycoaching.com
X-ALT-DESC;FMTTYPE=text/html:<div>\n<div>\n<p>Do interviews stress you out?</p>\n\n<p>Been a long time since your last interview?</p>\n\n<p>Join Bryan Nadeau from Vision to Reality Coaching for this free presentation on Wednesday\, February 19\, 2020 from 6:30 pm &ndash\; 7:30 pm to learn tips\, strategies and how to answer those behavior questions that will help you be more confident and relaxed. Allowing you to ace the interview process and get that job you are passionate about.</p>\n\n<p>You will learn how to:</p>\n\n<ul>\n	<li>Write your story</li>\n	<li>Practice telling your story</li>\n	<li>Tell your story with confidence</li>\n	<li>Recap your interview successes and learnings</li>\n</ul>\n\n<p>Register here: https://www.eventbrite.com/e/take-the-stress-out-of-interviewing-tickets-94230392641?fbclid=IwAR3u7BqwsFI0J8cq-UopE-tOl871TAg7pa5tkn1sycY3JPkXgpT8fxn8wDI</p>\n\n<p><strong>About the Facilitator</strong></p>\n\n<p>Bryan Nadeau\, CEO and Founder of Vision to Reality Coaching\, has extensive experience as an entrepreneur\, cross-functional team leader\, manager and individual contributor. He helps leaders\, managers\, and up-and-coming talent develop and expand new perspectives\, attitudes\, skills and behaviors for career success and performance gains through a program that helps individuals and teams go from goal to result\, positioning them in the most impactful and effective manner to proactively achieve results. In his practice\, Bryan&rsquo\;s approach consistently leads clients to identify actions for immediate impact\, sustainable change and measurable results. He is your advisor helping you address your personal and professional needs and requirements\, to enhance your ability to lead with greater influence and impact. And that is how you can make your vision a reality. www.visiontorealitycoaching.com</p>\n</div>\n</div>\n
LOCATION:Staples Brighton 1660 Soldiers Field Road Boston\, MA 02135
UID:e.2584.5346
SEQUENCE:3
DTSTAMP:20260424T051109Z
URL:https://business.cambridgechamber.org/events/details/take-the-stress-out-of-interviewing-changing-your-mindset-to-maximize-success-every-time-02-19-2020-5346
END:VEVENT

END:VCALENDAR
