BEGIN:VCALENDAR
VERSION:2.0
PRODID:-//ChamberMaster//Event Calendar 2.0//EN
METHOD:PUBLISH
X-PUBLISHED-TTL:P3D
REFRESH-INTERVAL:P3D
CALSCALE:GREGORIAN
BEGIN:VEVENT
DTSTART:20210214T150000Z
DTEND:20210214T170000Z
X-MICROSOFT-CDO-ALLDAYEVENT:FALSE
SUMMARY:Sunday Brunch in Style
DESCRIPTION:Sunday Brunch in Style | Sunday | Feb. 14 | 10 am - 12 pm | $50 | Link to Register\n\nSunday morning is the best time to get up\, relax\, and have a delicious brunch. How about a sweet roll or slice of coffee cake? Skip the trip to the bakery and learn how to whip up some classic brunch in this class. We'll make strawberry sangria\, gazpacho\, pancakes with caviar and tiramisu. Start brewing the coffee and we'll learn how to make delicious brunch in style. Tuition is per person. Instructor: Olga Kharina
X-ALT-DESC;FMTTYPE=text/html:<strong>Sunday Brunch in Style</strong>&nbsp\;| Sunday | Feb. 14 | 10 am - 12 pm | $50 |<a href="https://ccae.org/classes/offering/1447/sunday-brunch-in-style" target="_blank">&nbsp\;Link to Register</a><br />\nSunday morning is the best time to get up\, relax\, and have a delicious brunch. How about a sweet roll or slice of coffee cake? Skip the trip to the bakery and learn how to whip up some classic brunch in this class. We&rsquo\;ll make strawberry sangria\, gazpacho\, pancakes with caviar and tiramisu. Start brewing the coffee and we&rsquo\;ll learn how to make delicious brunch in style. Tuition is per person. Instructor: Olga Kharina
LOCATION:
UID:e.2584.5937
SEQUENCE:3
DTSTAMP:20260423T101405Z
URL:https://business.cambridgechamber.org/events/details/sunday-brunch-in-style-5937
END:VEVENT

END:VCALENDAR
