BEGIN:VCALENDAR
VERSION:2.0
PRODID:-//ChamberMaster//Event Calendar 2.0//EN
METHOD:PUBLISH
X-PUBLISHED-TTL:P3D
REFRESH-INTERVAL:P3D
CALSCALE:GREGORIAN
BEGIN:VEVENT
DTSTART:20190418T233000Z
DTEND:20190419T010000Z
X-MICROSOFT-CDO-ALLDAYEVENT:FALSE
SUMMARY:Sun of Goldfinger
DESCRIPTION:Featuring: David Torn\, guitar\n\nTim Berne\, sax\n\nChes Smith\, drums\n\nSaxophonist Tim Berne\, drummer Ches Smith and guitarist David Torn push far beyond jazz's known boundaries in Sun of Goldfinger. The mercurial trio explores the edges of the genre\, infusing it with perspectives ranging from the minimalist to the cinematic to the metallic. The improvisation-based group effortlessly\, seamlessly shifts from atmospheres into shattering mayhem to thrilling effect.\n\n\n\nAll three musicians are renowned bandleaders in their own right\, with current solo recordings on the prestigious ECM label. Berne has forged a singular path across dozens of expansive\, diverse albums featuring intricately-detailed\, harmony-driven works. Torn's influence as a guitarist\, composer and music technologist is epic. With sounds ranging from the searing and soaring to liquid loops to full-on shredding\, he's reinvented conventional definitions of guitar. Smith has established himself as one of the world's premier percussionists\, combining acoustic invention with electronics to both propel and extend his myriad musical surroundings.\n\n\n\nTogether\, these leaders and friends combine as a democratic unit\, determined to take audiences on a singular journey through provocative sonic territory known and unknown. This is the future of jazz. This is Sun of Goldfinger.
X-ALT-DESC;FMTTYPE=text/html:<h3>Featuring: David Torn\, guitar<br />\nTim Berne\, sax<br />\nChes Smith\, drums</h3>\n\n<p>Saxophonist Tim Berne\, drummer Ches Smith and guitarist David Torn push far beyond jazz&#39\;s known boundaries in Sun of Goldfinger. The mercurial trio explores the edges of the genre\, infusing it with perspectives ranging from the minimalist to the cinematic to the metallic. The improvisation-based group effortlessly\, seamlessly shifts from atmospheres into shattering mayhem to thrilling effect.<br />\n<br />\nAll three musicians are renowned bandleaders in their own right\, with current solo recordings on the prestigious ECM label. Berne has forged a singular path across dozens of expansive\, diverse albums featuring intricately-detailed\, harmony-driven works. Torn&#39\;s influence as a guitarist\, composer and music technologist is epic. With sounds ranging from the searing and soaring to liquid loops to full-on shredding\, he&#39\;s reinvented conventional definitions of guitar. Smith has established himself as one of the world&#39\;s premier percussionists\, combining acoustic invention with electronics to both propel and extend his myriad musical surroundings.<br />\n<br />\nTogether\, these leaders and friends combine as a democratic unit\, determined to take audiences on a singular journey through provocative sonic territory known and unknown. This is the future of jazz. This is Sun of Goldfinger.</p>\n
LOCATION:The Regattabar at The Charles Hotel
UID:e.2584.3805
SEQUENCE:3
DTSTAMP:20260424T214504Z
URL:https://business.cambridgechamber.org/events/details/sun-of-goldfinger-3805
END:VEVENT

END:VCALENDAR
