BEGIN:VCALENDAR
VERSION:2.0
PRODID:-//ChamberMaster//Event Calendar 2.0//EN
METHOD:PUBLISH
X-PUBLISHED-TTL:P3D
REFRESH-INTERVAL:P3D
CALSCALE:GREGORIAN
BEGIN:VEVENT
DTSTART:20190530T210000Z
DTEND:20190530T230000Z
X-MICROSOFT-CDO-ALLDAYEVENT:FALSE
SUMMARY:Successful Strategies: How to WIN in Today’s Competitive Housing Market
DESCRIPTION:The housing market doesn't seem to be slowing down anytime soon - if you're ready to buy\, now is the time! We're seeing multiple bid situations and houses being sold after only a day on the market! So how do you stand out and make sure your offer is the best it can be?\n\nAttend our home buying seminar where you will learn successful strategies on how to win in today's competitive housing market. The experts from Vita Realty Group\, Members Mortgage and MIT Federal Credit Union are here to\n\nhelp give you the advantage.
X-ALT-DESC;FMTTYPE=text/html:The housing market doesn&rsquo\;t seem to be slowing down anytime soon - if you&rsquo\;re ready to buy\, now is the time! We&rsquo\;re seeing multiple bid situations and houses being sold after only a day on the market! So how do you stand out and make sure your offer is the best it can be?<br />\nAttend our home buying seminar where you will learn successful strategies on how to win in today&rsquo\;s competitive housing market. The experts from Vita Realty Group\, Members Mortgage and MIT Federal Credit Union are here to<br />\nhelp give you the advantage.
LOCATION:MIT Stata Center 32 Vassar St. Cambridge\, MA 02139 Room 141
UID:e.2584.4556
SEQUENCE:3
DTSTAMP:20260424T201633Z
URL:https://business.cambridgechamber.org/events/details/successful-strategies-how-to-win-in-today-s-competitive-housing-market-4556
END:VEVENT

END:VCALENDAR
