BEGIN:VCALENDAR
VERSION:2.0
PRODID:-//ChamberMaster//Event Calendar 2.0//EN
METHOD:PUBLISH
X-PUBLISHED-TTL:P3D
REFRESH-INTERVAL:P3D
CALSCALE:GREGORIAN
BEGIN:VEVENT
DTSTART:20210429T210000Z
DTEND:20210429T220000Z
X-MICROSOFT-CDO-ALLDAYEVENT:FALSE
SUMMARY:Strengthening Our Community
DESCRIPTION:Join Us for the CASPAR 'Strengthening Our Community" Event on April 29th! \n\n\n\nJoin us on Thursday\, April 29\, at 5 p.m.\, for our virtual spring fundraiser\, "Strengthening Our Community\," honoring members of the Cambridge community who have provided crucial support to our work with individuals dealing with the challenges of homelessness and/or substance use disorder. \n\n\n\n"Strengthening our Community' will feature inspiring stories from some extraordinary members of the CASPAR community\, an auction\, and other surprises. The evening will culminate with the presentation of the Carl F. Barron Catalyst for Change Award to our "COVID Heroes" - The City of Cambridge COVID Response Team and Pfizer Kendall Square. This award is given in recognition of both honorees' incredible efforts in response to the pandemic\, as well as their longstanding contributions to CASPAR's work. \n\n\n\nAll proceeds from "Strengthening Our Community" will support CASPAR's lifesaving programs - including our Emergency Services Center and FirstStep Street Outreach Team - which not only provide critical services to nearly 300 people each day experiencing homelessness and substance use disorder\, but have also played a key role in helping our most vulnerable neighbors negotiate the extraordinary challenges of staying safe and healthy during the COVID-19 pandemic. \n\n\n\nIndividual tickets to the event are $25\, and can be purchased here. Sponsorship opportunities for the event are also available by clicking here.
X-ALT-DESC;FMTTYPE=text/html:<span style="font-size:24px\;"><span style="font-family:arial\;">Join Us for the CASPAR &#39\;Strengthening Our Community&quot\; Event on April 29th!&nbsp\;</span></span><br />\n<br />\n<span style="font-size:20px\;"><span style="font-family:arial\;">Join us on Thursday\, April 29\, at 5 p.m.\, for our virtual spring fundraiser\, &quot\;Strengthening Our Community\,&quot\; honoring members of the Cambridge community who have provided crucial support to our work with individuals dealing with the challenges of homelessness and/or substance use disorder.&nbsp\;<br />\n<br />\n&quot\;Strengthening our Community&#39\; will feature inspiring stories from some extraordinary members of the CASPAR community\, an auction\, and other surprises. The evening will culminate with the presentation of the Carl F. Barron Catalyst for Change Award to our &quot\;COVID Heroes&quot\; - The City of Cambridge COVID Response Team and Pfizer Kendall Square. This award is given in recognition of both honorees&#39\; incredible efforts in response to the pandemic\, as well as their longstanding contributions to CASPAR&#39\;s work.&nbsp\;<br />\n<br />\nAll proceeds from &quot\;Strengthening Our Community&quot\; will support CASPAR&#39\;s lifesaving programs - including our Emergency Services Center and FirstStep Street Outreach Team - which not only provide critical services to nearly 300 people each day experiencing homelessness and substance use disorder\, but have also played a key role in helping our most vulnerable neighbors negotiate the extraordinary challenges of staying safe and healthy during the COVID-19 pandemic.&nbsp\;<br />\n<br />\nIndividual tickets to the event are $25\, and can be purchased <a href="https://www.baycovehumanservices.org/caspareventtix">here</a>. Sponsorship opportunities for the event are also available by clicking <a href="https://www.baycovehumanservices.org/caspareventsponsorship">here</a>.&nbsp\;</span></span>
LOCATION:
UID:e.2584.5995
SEQUENCE:3
DTSTAMP:20260423T073459Z
URL:https://business.cambridgechamber.org/events/details/strengthening-our-community-5995
END:VEVENT

END:VCALENDAR
