BEGIN:VCALENDAR
VERSION:2.0
PRODID:-//ChamberMaster//Event Calendar 2.0//EN
METHOD:PUBLISH
X-PUBLISHED-TTL:P3D
REFRESH-INTERVAL:P3D
CALSCALE:GREGORIAN
BEGIN:VEVENT
DTSTART:20190423T220000Z
DTEND:20190424T000000Z
X-MICROSOFT-CDO-ALLDAYEVENT:FALSE
SUMMARY:Storytelling through Social Media
DESCRIPTION:Presenter: Patricia Egessa. Free to Cambridge residents and business owners\, $10 for non-Cambridge participants.\n\nStorytelling remains critical to brand's marketing efforts and is one of the most powerful ways to keep consumers engaged. It is through stories that businesses are able to craft a personality and create a connection with the target audience. In this class\, you will learn how to effectively tell your brand's story through social media. *Prerequisite: You must have basic computer skills and at least one social media account.
X-ALT-DESC;FMTTYPE=text/html:<p style="margin: 0px 0px 1em\; padding: 0px\; border: 0px\; line-height: 1.4\; font-family: myriad-pro\, Arial\, Helvetica\, sans-serif\; font-size: 12px\;"><span style="font-size:20px\;"><strong>Presenter: Patricia Egessa. Free to Cambridge residents and business owners\, $10 for non-Cambridge participants.</strong></span></p>\n\n<p style="margin: 0px 0px 1em\; padding: 0px\; border: 0px\; line-height: 1.4\; font-family: myriad-pro\, Arial\, Helvetica\, sans-serif\; font-size: 12px\;"><span style="font-size:20px\;">Storytelling remains critical to brand&#39\;s marketing efforts and is one of the most powerful ways to keep consumers engaged. It is through stories that businesses are able to craft a personality and create a connection with the target audience. In this class\, you will learn how to effectively tell your brand&#39\;s story through social media.&nbsp\;<strong><em>*Prerequisite: You must have basic computer skills and at least one social media account.</em></strong></span></p>\n
LOCATION:CCTV 438 Massachusetts Avenue
UID:e.2584.3825
SEQUENCE:3
DTSTAMP:20260424T214322Z
URL:https://business.cambridgechamber.org/events/details/storytelling-through-social-media-3825
END:VEVENT

END:VCALENDAR
