BEGIN:VCALENDAR
VERSION:2.0
PRODID:-//ChamberMaster//Event Calendar 2.0//EN
METHOD:PUBLISH
X-PUBLISHED-TTL:P3D
REFRESH-INTERVAL:P3D
CALSCALE:GREGORIAN
BEGIN:VEVENT
DTSTART:20200209T003000Z
DTEND:20200209T014500Z
X-MICROSOFT-CDO-ALLDAYEVENT:FALSE
SUMMARY:Steven Feifke feat. Special Guest Vocalist Shenel Johns
DESCRIPTION:Steven Feifke is a prolific pianist\, bandleader\, composer and educator who has become a fixture on the New York scene. A regular at key venues including The Blue Note\, Smalls\, and Dizzy's Club Coca-Cola\, he also frequently works as a musical director\, conductor\, orchestrator and arranger and maintains his own big band\, septet\, and trio. His orchestrations for chamber ensemble\, big band\, and orchestra can be heard on numerous albums by artists like Veronica Swift\, Santino Fontana\, and Ulysses Owens Jr. Feifke has also written original works for television and film media\, and his music can be heard on the hit Netflix TV show "Comedians In Cars Getting Coffee\," produced by comedian Jerry Seinfeld. He holds a Bachelors Degree in Jazz Studies and a Minor in Economics from New York University (2013)\, along with a Masters Degree in Jazz Composition from Manhattan School Of Music (2018). Feifke serves on faculty at The New School in New York City\, where he teaches private composition and arranging. His debut record is "Peace In Time\," released independently in 2015.
X-ALT-DESC;FMTTYPE=text/html:<span style="font-family:museo slab\,sans-serif\; font-size:13px">Steven Feifke is a prolific pianist\, bandleader\, composer and educator who has become a fixture on the New York scene. A regular at key venues including The Blue Note\, Smalls\, and Dizzy&#39\;s Club Coca-Cola\, he also frequently works as a musical director\, conductor\, orchestrator and arranger and maintains his own big band\, septet\, and trio. His orchestrations for chamber ensemble\, big band\, and orchestra can be heard on numerous albums by artists like Veronica Swift\, Santino Fontana\, and Ulysses Owens Jr. Feifke has also written original works for television and film media\, and his music can be heard on the hit Netflix TV show &quot\;Comedians In Cars Getting Coffee\,&quot\; produced by comedian Jerry Seinfeld. He holds a Bachelors Degree in Jazz Studies and a Minor in Economics from New York University (2013)\, along with a Masters Degree in Jazz Composition from Manhattan School Of Music (2018). Feifke serves on faculty at The New School in New York City\, where he teaches private composition and arranging. His debut record is &quot\;Peace In Time\,&quot\; released independently in 2015.</span>
LOCATION:The Regattabar at The Charles Hotel
UID:e.2584.4711
SEQUENCE:3
DTSTAMP:20260424T050950Z
URL:https://business.cambridgechamber.org/events/details/steven-feifke-feat-special-guest-vocalist-shenel-johns-4711
END:VEVENT

END:VCALENDAR
