BEGIN:VCALENDAR
VERSION:2.0
PRODID:-//ChamberMaster//Event Calendar 2.0//EN
METHOD:PUBLISH
X-PUBLISHED-TTL:P3D
REFRESH-INTERVAL:P3D
CALSCALE:GREGORIAN
BEGIN:VEVENT
DTSTART:20200224T223000Z
DTEND:20200225T003000Z
X-MICROSOFT-CDO-ALLDAYEVENT:FALSE
SUMMARY:Steps to Starting Your Own Business!
DESCRIPTION:This workshop will outline the various steps necessary to start your own business in Cambridge. As part of this workshop\, you will: explore the process and learn about the risks and rewards of starting your own business\; find out first steps to start a business\; and get an overview of resources available to help you move forward with your business idea.
X-ALT-DESC;FMTTYPE=text/html:This workshop will outline the various steps necessary to start your own business in Cambridge. As part of this workshop\, you will: explore the process and learn about the risks and rewards of starting your own business\; find out first steps to start a business\; and get an overview of resources available to help you move forward with your business idea.&nbsp\;
LOCATION:Cambridge City Hall Annex 2nd Floor 344 Broadway
UID:e.2584.4688
SEQUENCE:3
DTSTAMP:20260424T050853Z
URL:https://business.cambridgechamber.org/events/details/steps-to-starting-your-own-business-4688
END:VEVENT

END:VCALENDAR
