BEGIN:VCALENDAR
VERSION:2.0
PRODID:-//ChamberMaster//Event Calendar 2.0//EN
METHOD:PUBLISH
X-PUBLISHED-TTL:P3D
REFRESH-INTERVAL:P3D
CALSCALE:GREGORIAN
BEGIN:VEVENT
DTSTART:20200301T030000Z
DTEND:20200301T041500Z
X-MICROSOFT-CDO-ALLDAYEVENT:FALSE
SUMMARY:Stephane Wrembel Band : The Django Experiment V Album Release Concert
DESCRIPTION:The New York Times recently said: "Perhaps the most creative improviser in Gypsy jazz today\, Mr. Wrembel plays the guitar with a rich and colorful lyricism.".\n\n\n\nThe New York Observer said\, "Stephane Wrembel represents the living face of Gypsy jazz" and Rolling Stone Magazine has called him "a revelation".\n\n\n\nThe Django Experiment V is the fifth in a series of recordings from Award-winning guitarist Stephane Wrembel in tribute to French guitarist Django Reinhardt\, who is widely considered one of the greatest musicians of the twentieth century. On The Django Experiment V\, Stephane Wrembel is once again accompanied by long-time collaborators Thor Jensen (guitar)\, Ari Folman Cohen (bass)\, Nick Anderson (drums) and special guests Nick Driscoll (saxophone and clarinet) and Daisy Castro (violin).\n\n\n\n\n\nAbout Stephane Wrembel\n\n\n\nStephane Wrembel is quite simply one of the finest guitar players in the world. The breadth and range of his playing and compositions are unmatched. To say that Wrembel-- who learned his craft among the Gypsies at campsites in the French countryside-- has already had a remarkable career would be an under-statement. This prolific\, virtuoso guitarist has been releasing a steady stream of music since 2006 and has truly made his mark as one of the most original guitar voices in contemporary music. Stephane Wrembel is widely known for "Bistro Fada"\, the theme song from the 2011 Woody Allen Oscar winning film and Grammy Award winning soundtrack\, Midnight In Paris.\n\n\n\nBorn in Paris and raised in Fontainebleau\, the home of Impressionism and Django\, Wrembel has been based in the New York City region for the past 20 years and since his studies at Berklee. He has toured around the world\, and is very active on the musical scene in many countries including USA\, Canada\, France\, Israel and India. Recently\, Stephane has performed as a headliner at the legendary Carnegie Hall and at The Town Hall in New York as well as at the Festival Django Reinhardt in France. Wrembel has also headlined at Lincoln Center\, played major Festivals\, recorded and shared the stage with a long list of world renowned musicians such as Al Di Meola\, Stochelo Rosenberg\, Sam Bush and David Grisman\,
X-ALT-DESC;FMTTYPE=text/html:<span style="font-family:museo slab\,sans-serif\; font-size:13px">The New York Times recently said: &quot\;Perhaps the most creative improviser in Gypsy jazz today\, Mr. Wrembel plays the guitar with a rich and colorful lyricism.&quot\;.</span><br />\n<br />\n<span style="font-family:museo slab\,sans-serif\; font-size:13px">The New York Observer said\, &quot\;Stephane Wrembel represents the living face of Gypsy jazz&quot\; and Rolling Stone Magazine has called him &quot\;a revelation&quot\;.</span><br />\n<br />\n<span style="font-family:museo slab\,sans-serif\; font-size:13px">The Django Experiment V is the fifth in a series of recordings from Award-winning guitarist Stephane Wrembel in tribute to French guitarist Django Reinhardt\, who is widely considered one of the greatest musicians of the twentieth century. On The Django Experiment V\, Stephane Wrembel is once again accompanied by long-time collaborators Thor Jensen (guitar)\, Ari Folman Cohen (bass)\, Nick Anderson (drums) and special guests Nick Driscoll (saxophone and clarinet) and Daisy Castro (violin).</span><br />\n<br />\n<br />\n<span style="font-family:museo slab\,sans-serif\; font-size:13px">About Stephane Wrembel</span><br />\n<br />\n<span style="font-family:museo slab\,sans-serif\; font-size:13px">Stephane Wrembel is quite simply one of the finest guitar players in the world. The breadth and range of his playing and compositions are unmatched. To say that Wrembel-- who learned his craft among the Gypsies at campsites in the French countryside-- has already had a remarkable career would be an under-statement. This prolific\, virtuoso guitarist has been releasing a steady stream of music since 2006 and has truly made his mark as one of the most original guitar voices in contemporary music. Stephane Wrembel is widely known for &quot\;Bistro Fada&quot\;\, the theme song from the 2011 Woody Allen Oscar winning film and Grammy Award winning soundtrack\, Midnight In Paris.</span><br />\n<br />\n<span style="font-family:museo slab\,sans-serif\; font-size:13px">Born in Paris and raised in Fontainebleau\, the home of Impressionism and Django\, Wrembel has been based in the New York City region for the past 20 years and since his studies at Berklee. He has toured around the world\, and is very active on the musical scene in many countries including USA\, Canada\, France\, Israel and India. Recently\, Stephane has performed as a headliner at the legendary Carnegie Hall and at The Town Hall in New York as well as at the Festival Django Reinhardt in France. Wrembel has also headlined at Lincoln Center\, played major Festivals\, recorded and shared the stage with a long list of world renowned musicians such as Al Di Meola\, Stochelo Rosenberg\, Sam Bush and David Grisman\,</span>
LOCATION:The Regattabar at The Charles Hotel
UID:e.2584.4720
SEQUENCE:3
DTSTAMP:20260424T051109Z
URL:https://business.cambridgechamber.org/events/details/stephane-wrembel-band-the-django-experiment-v-album-release-concert-02-29-2020-4720
END:VEVENT

END:VCALENDAR
