BEGIN:VCALENDAR
VERSION:2.0
PRODID:-//ChamberMaster//Event Calendar 2.0//EN
METHOD:PUBLISH
X-PUBLISHED-TTL:P3D
REFRESH-INTERVAL:P3D
CALSCALE:GREGORIAN
BEGIN:VEVENT
DTSTART:20190509T194500Z
DTEND:20190510T000000Z
X-MICROSOFT-CDO-ALLDAYEVENT:FALSE
SUMMARY:Start It Up! Build\, Learn & Connect to Grow Your Startup
DESCRIPTION:The Cambridge Community Development Department is partnering with The Capital Network to bring you "Start It Up!\," an afternoon full of free events to help support founders from Cambridge (and beyond) in their early stages. At Start It Up! we will help you build\, learn and connect - three things every founder needs. You will learn how to build the perfect pitch\, options for funding\, and what types of funding could be a good fit for your business\, and you will connect with mentors\, entrepreneurs\, resources and services that can help you along your startup's journey. Refreshments will be served.
X-ALT-DESC;FMTTYPE=text/html:<span style="color:rgb(0\, 0\, 0)\; font-family:myriad-pro\,arial\,helvetica\,sans-serif\; font-size:13.98px">The Cambridge Community Development Department is partnering with The Capital Network to bring you &quot\;Start It Up!\,&quot\; an afternoon full of free events to help support founders from Cambridge (and beyond) in their early stages. At Start It Up! we will help you build\, learn and connect - three things every founder needs. You will learn how to build the perfect pitch\, options for funding\, and what types of funding could be a good fit for your business\, and you will connect with mentors\, entrepreneurs\, resources and services that can help you along your startup&#39\;s journey. Refreshments will be served.&nbsp\;</span>
LOCATION:CIC\, 245 Main Street\, Cambridge\, MA
UID:e.2584.4484
SEQUENCE:3
DTSTAMP:20260424T201224Z
URL:https://business.cambridgechamber.org/events/details/start-it-up-build-learn-connect-to-grow-your-startup-4484
END:VEVENT

END:VCALENDAR
