BEGIN:VCALENDAR
VERSION:2.0
PRODID:-//ChamberMaster//Event Calendar 2.0//EN
METHOD:PUBLISH
X-PUBLISHED-TTL:P3D
REFRESH-INTERVAL:P3D
CALSCALE:GREGORIAN
BEGIN:VEVENT
DTSTART:20190424T220000Z
DTEND:20190424T230000Z
X-MICROSOFT-CDO-ALLDAYEVENT:FALSE
SUMMARY:Spring into Science - Sex Differences in Health and Disease with Dr. David Page
DESCRIPTION:Part Two of Whitehead Institute's Spring into Science Series\n\nWhy is there a higher incidence of heart disease in men than women? A greater prevalence of autoimmune disorders in women? David Page\, Director and Member of Whitehead Institute and a professor of biology at the Massachusetts Institute of Technology\, investigates the genetic origins of sex biases in human health and disease. Although we are commonly taught that the difference between XY(male) and XX (female) biology is a matter of sex hormones produced by the testes or ovaries\, in fact there are a number of genes that differ between the X and Y chromosomes that are expressed outside of the reproductive tract. Differences between Y-linked genes and their X-linked counterparts may result in distinct biochemical environments throughout the body. Page will be discussing the latest research about how sex biases in disease may originate from these biochemical differences between XY and XX cells.
X-ALT-DESC;FMTTYPE=text/html:<p><span style="font-size:14px"><span style="color:#000000">Part Two of Whitehead Institute&rsquo\;s Spring into Science Series</span></span></p>\n\n<p><span style="font-size:14px"><span style="color:#000000">Why is there a higher incidence of heart disease in men than women? A greater prevalence of autoimmune disorders in women? David Page\, Director and Member of Whitehead Institute and a professor of biology at the Massachusetts Institute of Technology\, investigates the genetic origins of sex biases in human health and disease. Although we are commonly taught that the difference between XY(male) and XX (female) biology is a matter of sex hormones produced by the testes or ovaries\, in fact there are a number of genes that differ between the X and Y chromosomes that are expressed outside of the reproductive tract. Differences between Y-linked genes and their X-linked counterparts may result in distinct biochemical environments throughout the body. Page will be discussing the latest research about how sex biases in disease may originate from these biochemical differences between XY and XX cells.</span></span></p>\n
LOCATION:Whitehead Institute 455 Main Street Cambridge\, MA 02142
UID:e.2584.4475
SEQUENCE:3
DTSTAMP:20260424T214600Z
URL:https://business.cambridgechamber.org/events/details/spring-into-science-sex-differences-in-health-and-disease-with-dr-david-page-4475
END:VEVENT

END:VCALENDAR
