BEGIN:VCALENDAR
VERSION:2.0
PRODID:-//ChamberMaster//Event Calendar 2.0//EN
METHOD:PUBLISH
X-PUBLISHED-TTL:P3D
REFRESH-INTERVAL:P3D
CALSCALE:GREGORIAN
BEGIN:VEVENT
DTSTART:20190413T174500Z
DTEND:20190413T184500Z
X-MICROSOFT-CDO-ALLDAYEVENT:FALSE
SUMMARY:Spin & Sudz with YWCA Cambridge
DESCRIPTION:Join YWCA Cambridge at The Handle Bar for a spin class followed by healthy snacks\, beer\, and raffles! Everything is included in your ticket! \n\n\n\nPurchase Tickets: http://bit.ly/YWCASpin
X-ALT-DESC;FMTTYPE=text/html:<span style="color:rgb(29\, 33\, 41)\; font-family:helvetica\,arial\,sans-serif\; font-size:14px">Join YWCA Cambridge at The Handle Bar for a spin class followed by healthy snacks\, beer\, and raffles! Everything is included in your ticket! </span><br />\n<br />\n<span style="color:rgb(29\, 33\, 41)\; font-family:helvetica\,arial\,sans-serif\; font-size:14px">Purchase Tickets: </span><a href="https://bit.ly/YWCASpin?fbclid=IwAR3q_CTSEEKx-LvHd9KPDqqAfW4KhnpbfX262yeXK1RPMiiTi4Pij6Iptok" rel="nofollow noopener" style="color: rgb(54\, 88\, 153)\; cursor: pointer\; text-decoration-line: none\; font-family: Helvetica\, Arial\, sans-serif\; font-size: 14px\; white-space: pre-wrap\;" target="_blank">http://bit.ly/YWCASpin</a>
LOCATION:The Handle Bar @ Harvard Square 1030 Massachusetts Ave Cambridge\, MA\, 02138
UID:e.2584.3834
SEQUENCE:3
DTSTAMP:20260424T214213Z
URL:https://business.cambridgechamber.org/events/details/spin-sudz-with-ywca-cambridge-3834
END:VEVENT

END:VCALENDAR
