BEGIN:VCALENDAR
VERSION:2.0
PRODID:-//ChamberMaster//Event Calendar 2.0//EN
METHOD:PUBLISH
X-PUBLISHED-TTL:P3D
REFRESH-INTERVAL:P3D
CALSCALE:GREGORIAN
BEGIN:VEVENT
DTSTART:20190506T133000Z
DTEND:20190506T153000Z
X-MICROSOFT-CDO-ALLDAYEVENT:FALSE
SUMMARY:Small Business Licensing and Permitting Resources Fair\, 9:30-11:30 a.m.
DESCRIPTION:Looking to start a business and don't know where to start? Wondering how to host a small event at your business? Have questions about the new permitting system? Bring these questions and more to the City's first ever Small Business Licensing and Permitting Resource Fair. Join staff from the Cambridge License Commission\, Department of Public Works\, Inspectional Services\, and Community Development Department to learn about business licensing and permitting\, zoning\, events\, and the City's small business programs. Refreshments will be provided. Free to all
X-ALT-DESC;FMTTYPE=text/html:<span style="color:rgb(0\, 0\, 0)\; font-family:myriad-pro\,arial\,helvetica\,sans-serif\; font-size:13.98px">Looking to start a business and don&#39\;t know where to start?&nbsp\;Wondering how to host a small event at your business? Have questions about the new permitting system? Bring these questions and more to the City&#39\;s first ever Small Business Licensing and Permitting Resource Fair. Join staff from the Cambridge License Commission\, Department of Public Works\, Inspectional Services\, and Community Development Department to learn about business licensing and permitting\, zoning\, events\, and the City&#39\;s small business programs. Refreshments will be provided. Free to all</span>
LOCATION:Cambridge City Hall Annex\, 344 Broadway\, 2nd floor Meeting Room
UID:e.2584.4479
SEQUENCE:3
DTSTAMP:20260424T201225Z
URL:https://business.cambridgechamber.org/events/details/small-business-licensing-and-permitting-resources-fair-9-30-11-30-a-m-4479
END:VEVENT

END:VCALENDAR
