BEGIN:VCALENDAR
VERSION:2.0
PRODID:-//ChamberMaster//Event Calendar 2.0//EN
METHOD:PUBLISH
X-PUBLISHED-TTL:P3D
REFRESH-INTERVAL:P3D
CALSCALE:GREGORIAN
BEGIN:VEVENT
DTSTART:20190725T233000Z
DTEND:20190726T010000Z
X-MICROSOFT-CDO-ALLDAYEVENT:FALSE
SUMMARY:Skolhamm Asylum featuring Alex Skolnick\, Stu Hamm\, Joel Taylor
DESCRIPTION:Featuring: ALEX SKOLNICK\, guitar\n\nSTU HAMM\, bass\n\nJOEL TAYLOR\, drums\n\nAlex Skolnick is a true guitar hero. He is best known as the lead guitarist in the multi-million selling thrash metal band Testament. He also leads a jazz group\, the Alex Skolnick Trio\, and recorded an album of world music. According to a Guitar World magazine readers' poll\, he is considered one of the greatest guitarists of all time and one of the fastest guitarists in the world.\n\n\n\nStu Hamm is a legendary bass guitar player\, known for his session and live work with numerous artists\, such as Joe Satriani\, Steve Vai\, Frank Gambale\, Tony McAlpine\, Richie Kotzen\, as well as for his unconventional playing style and solo recordings. Since 1991 he collaborates with Alex Skolnick in numerous projects.\n\n\n\nJoel Taylor is one of the busiest session drummers in the USA\, he recorded and toured the world with greats such as Brian Bromberg\, Andy Summers\, Al Di Meola\, Frank Gambale\, Allan Holdsworth\, Banned From Utopia\, Yanni\, Bobby Kimball\, Josh Groban\, Michael Buble'\, Stanley Clarke\, David Foster\, Jeff Lorber and many others.
X-ALT-DESC;FMTTYPE=text/html:<h3>Featuring: ALEX SKOLNICK\, guitar<br />\nSTU HAMM\, bass<br />\nJOEL TAYLOR\, drums</h3>\n\n<p>Alex Skolnick is a true guitar hero. He is best known as the lead guitarist in the multi-million selling thrash metal band Testament. He also leads a jazz group\, the Alex Skolnick Trio\, and recorded an album of world music. According to a Guitar World magazine readers&#39\; poll\, he is considered one of the greatest guitarists of all time and one of the fastest guitarists in the world.<br />\n<br />\nStu Hamm is a legendary bass guitar player\, known for his session and live work with numerous artists\, such as Joe Satriani\, Steve Vai\, Frank Gambale\, Tony McAlpine\, Richie Kotzen\, as well as for his unconventional playing style and solo recordings. Since 1991 he collaborates with Alex Skolnick in numerous projects.<br />\n<br />\nJoel Taylor is one of the busiest session drummers in the USA\, he recorded and toured the world with greats such as Brian Bromberg\, Andy Summers\, Al Di Meola\, Frank Gambale\, Allan Holdsworth\, Banned From Utopia\, Yanni\, Bobby Kimball\, Josh Groban\, Michael Buble&#39\;\, Stanley Clarke\, David Foster\, Jeff Lorber and many others.</p>\n
LOCATION:The Regattabar at The Charles Hotel
UID:e.2584.4471
SEQUENCE:3
DTSTAMP:20260424T164310Z
URL:https://business.cambridgechamber.org/events/details/skolhamm-asylum-featuring-alex-skolnick-stu-hamm-joel-taylor-4471
END:VEVENT

END:VCALENDAR
