BEGIN:VCALENDAR
VERSION:2.0
PRODID:-//ChamberMaster//Event Calendar 2.0//EN
METHOD:PUBLISH
X-PUBLISHED-TTL:P3D
REFRESH-INTERVAL:P3D
CALSCALE:GREGORIAN
BEGIN:VEVENT
DTSTART:20190819T220000Z
DTEND:20190820T000000Z
X-MICROSOFT-CDO-ALLDAYEVENT:FALSE
SUMMARY:Shameless Trivia on the Patio
DESCRIPTION:Think you know the Gallaghers...?\n\nJoin us on our outdoor patio on Monday\, August 19th starting at 6 PM for SHAMELESS themed trivia. Sheila got over her agoraphobia\, what's your excuse?!\n\nDetails:\n\n\n- Trivia begins at 6:00pm but we encourage you to come early for dinner & drinks (sory\, no Patsy's Pies)\n\n\n\n- Registration is first come\, first served and CLOSES after the first 35 teams have signed up (teams cannot exceed 6 people)\n\n\n\n- Trivia will be held outside on our patio. In the case of inclement weather\, trivia will move to our sister location The Harp by North Station (Kev wouldn't let us use The Alibi)\n\n \n\nPlease note: RSVP does NOT guarantee a team or table. We recommend coming early as we cannot accommodate everyone.
X-ALT-DESC;FMTTYPE=text/html:<h2>Think you know the Gallaghers...?</h2>\n\n<p>Join us on our outdoor patio on Monday\, August 19th starting at 6 PM&nbsp\;for&nbsp\;<strong>SHAMELESS</strong>&nbsp\;themed trivia. Sheila got over her agoraphobia\, what&#39\;s your excuse?!</p>\n\n<p>Details:</p>\n\n<div>\n<div>- Trivia begins at 6:00pm but we encourage you to come early for dinner &amp\; drinks (sory\, no Patsy&#39\;s Pies)</div>\n</div>\n\n<div>\n<div>- Registration is first come\, first served and CLOSES after the first 35 teams have signed up (teams cannot exceed 6 people)</div>\n</div>\n\n<div>\n<div>-&nbsp\;Trivia will be held outside on our patio. In the case of inclement weather\, trivia will move to our sister location The Harp&nbsp\;by North Station (Kev wouldn&#39\;t let us use The Alibi)</div>\n\n<div>&nbsp\;</div>\n\n<div><em>Please note: RSVP does NOT guarantee a team or table. We recommend coming early as we cannot accommodate everyone.</em></div>\n</div>\n
LOCATION:Glass House 450 Kendall Street Cambridge\, MA 02142
UID:e.2584.4595
SEQUENCE:3
DTSTAMP:20260424T144654Z
URL:https://business.cambridgechamber.org/events/details/shameless-trivia-on-the-patio-4595
END:VEVENT

END:VCALENDAR
