BEGIN:VCALENDAR
VERSION:2.0
PRODID:-//ChamberMaster//Event Calendar 2.0//EN
METHOD:PUBLISH
X-PUBLISHED-TTL:P3D
REFRESH-INTERVAL:P3D
CALSCALE:GREGORIAN
BEGIN:VEVENT
DTSTART:20190417T223000Z
DTEND:20190418T010000Z
X-MICROSOFT-CDO-ALLDAYEVENT:FALSE
SUMMARY:Shacksbury Cider dinner at Café du Pays
DESCRIPTION:Chef Dan Amighi and Shacksbury Cider team up for a 3-course dinner with pairings from the Shacksbury cellar. $90/person.\n\nReservations via Resy.com or Cafedupays.com
X-ALT-DESC;FMTTYPE=text/html:Chef Dan Amighi and Shacksbury Cider team up for a 3-course dinner with pairings from the Shacksbury cellar. $90/person.<br />\nReservations via Resy.com or Cafedupays.com
LOCATION:Caf du Pays 233 Cardinal Medeiros Ave. Cambridge\, MA 02141
UID:e.2584.4485
SEQUENCE:3
DTSTAMP:20260424T234309Z
URL:https://business.cambridgechamber.org/events/details/shacksbury-cider-dinner-at-caf&#233;-du-pays-4485
END:VEVENT

END:VCALENDAR
