BEGIN:VCALENDAR
VERSION:2.0
PRODID:-//ChamberMaster//Event Calendar 2.0//EN
METHOD:PUBLISH
X-PUBLISHED-TTL:P3D
REFRESH-INTERVAL:P3D
CALSCALE:GREGORIAN
BEGIN:VEVENT
DTSTART:20200521T140000Z
DTEND:20200521T200000Z
X-MICROSOFT-CDO-ALLDAYEVENT:FALSE
SUMMARY:ServSafe Certification Training
DESCRIPTION:Location: Cambridge Public Library Main Branch\, 449 Broadway\n\nCommunity Room (Level L2)\n\nTime: 10:00 a.m.   4:00 p.m. \n\nNote: this course is a one-day session with a lecture and testing portion. Some attendees may not require the full amount of time needed to take the test. Attendees should register for only one of the three dates offered. \n\n \n\nServSafe Certification training is a common and important requirement for food service employees. Food businesses ranging from brick-and-mortar operations to food truck operators and specialty caterers are all required to produce proof of ServSafe Certification for many activities in Cambridge. This two-part workshop offers attendees the opportunity to take an in-person ServSafe training module and then a ServSafe test administered by paper and led by an experienced ServSafe trainer. This training is ideal for first-time food businesses looking to do catering or pop-up markets in Cambridge. Translation services can be made available upon request.
X-ALT-DESC;FMTTYPE=text/html:<p style="margin: 0px 0px 12pt\; padding: 0px\; border: 0px\; font-size: 1.165em\; line-height: 1.3\; font-family: myriad-pro\, Arial\, Helvetica\, sans-serif\;"><strong>Location:</strong>&nbsp\;Cambridge Public Library Main Branch\, 449 Broadway<br />\nCommunity Room (Level L2)<br />\n<strong>Time</strong>: 10:00 a.m. &ndash\; 4:00 p.m.&nbsp\;</p>\n\n<p style="margin: 0px 0px 12pt\; padding: 0px\; border: 0px\; font-size: 1.165em\; line-height: 1.3\; font-family: myriad-pro\, Arial\, Helvetica\, sans-serif\;"><span style="font-style: italic\; font-weight: lighter\;">Note: this course is a one-day session with a lecture and testing portion. Some attendees may not require the full amount of time needed to take the test.&nbsp\;</span><span style="font-style: italic\;">Attendees should register for only one of the three dates offered.&nbsp\;</span><br />\n&nbsp\;</p>\n\n<p style="margin: 0px 0px 12pt\; padding: 0px\; border: 0px\; font-size: 1.165em\; line-height: 1.3\; font-family: myriad-pro\, Arial\, Helvetica\, sans-serif\;">ServSafe Certification training is a common and important requirement for food service employees. Food businesses ranging from brick-and-mortar operations to food truck operators and specialty caterers are all required to produce proof of ServSafe Certification for many activities in Cambridge. This two-part workshop offers attendees the opportunity to take an in-person ServSafe training module and then a ServSafe test administered by paper and led by an experienced ServSafe trainer. This training is ideal for first-time food businesses looking to do catering or pop-up markets in Cambridge.&nbsp\;<em>Translation services can be made available upon request.</em></p>\n
LOCATION:
UID:e.2584.5341
SEQUENCE:3
DTSTAMP:20260424T000757Z
URL:https://business.cambridgechamber.org/events/details/servsafe-certification-training-5341
END:VEVENT

END:VCALENDAR
