BEGIN:VCALENDAR
VERSION:2.0
PRODID:-//ChamberMaster//Event Calendar 2.0//EN
METHOD:PUBLISH
X-PUBLISHED-TTL:P3D
REFRESH-INTERVAL:P3D
CALSCALE:GREGORIAN
BEGIN:VEVENT
DTSTART:20190922T134500Z
DTEND:20190922T150000Z
X-MICROSOFT-CDO-ALLDAYEVENT:FALSE
SUMMARY:Self-Care Sunday with Health Yoga Life
DESCRIPTION:C(OM)e Sunday\, September 22nd for an outdoor meditation session hosted by our friends at Health Yoga Life. This 45-minute guided session includes meditation\, aromatherapy & sound healing. The best part? Each ticket includes a post-meditation mimosa or mocktail!\n\nPlus\, stick around for a delicious brunch at Glass House. Nothing says treat yourself like Fried Lobster Benedict! Make your reservation here and let the host know you're a part of Self-Care Sunday. Please note\, ticket price does NOT include brunch. \n\nIf you ask us\, this sounds like a Sunday well spent!\n\nPlease note: This event is 21+ with a valid ID.
X-ALT-DESC;FMTTYPE=text/html:<p>C(<strong>OM</strong>)e&nbsp\;Sunday\, September 22nd for an outdoor meditation session hosted by our friends at Health Yoga Life.&nbsp\;This 45-minute guided session includes meditation\, aromatherapy &amp\; sound healing. The best part? Each ticket includes a post-meditation mimosa or mocktail!</p>\n\n<p>Plus\, stick around for a delicious brunch&nbsp\;at Glass House. Nothing says treat yourself like Fried Lobster Benedict! Make your reservation here&nbsp\;and let the host know you&#39\;re a part of Self-Care Sunday.&nbsp\;<em>Please note\, ticket price does NOT include brunch.&nbsp\;</em></p>\n\n<p>If you ask us\, this sounds like a Sunday well spent!</p>\n\n<p><em>Please note: This event is 21+ with a valid ID.</em></p>\n
LOCATION:Glass House 450 Kendall Street Cambridge\, MA 02142
UID:e.2584.4604
SEQUENCE:3
DTSTAMP:20260424T130500Z
URL:https://business.cambridgechamber.org/events/details/self-care-sunday-with-health-yoga-life-4604
END:VEVENT

END:VCALENDAR
