BEGIN:VCALENDAR
VERSION:2.0
PRODID:-//ChamberMaster//Event Calendar 2.0//EN
METHOD:PUBLISH
X-PUBLISHED-TTL:P3D
REFRESH-INTERVAL:P3D
CALSCALE:GREGORIAN
BEGIN:VEVENT
DTSTART:20201106T000000Z
DTEND:20201106T010000Z
X-MICROSOFT-CDO-ALLDAYEVENT:FALSE
SUMMARY:Secondary School Virtual Open House
DESCRIPTION:Join our Secondary School Virtual Open House (Grades 6-12) at 7:00pm EST.\n\nRegister here.
X-ALT-DESC;FMTTYPE=text/html:<p>Join our&nbsp\;Secondary School Virtual Open House (Grades 6-12) at 7:00pm EST.</p>\n\n<p><a href="https://us02web.zoom.us/webinar/register/WN_N0ohaM_FSOu5fW3cLAV1Tg">Register here</a>.</p>\n
LOCATION:Zoom Webinar
UID:e.2584.5418
SEQUENCE:3
DTSTAMP:20260423T161356Z
URL:https://business.cambridgechamber.org/events/details/secondary-school-virtual-open-house-5418
END:VEVENT

END:VCALENDAR
