BEGIN:VCALENDAR
VERSION:2.0
PRODID:-//ChamberMaster//Event Calendar 2.0//EN
METHOD:PUBLISH
X-PUBLISHED-TTL:P3D
REFRESH-INTERVAL:P3D
CALSCALE:GREGORIAN
BEGIN:VEVENT
DTSTART:20201119T170000Z
DTEND:20201119T180000Z
X-MICROSOFT-CDO-ALLDAYEVENT:FALSE
SUMMARY:Secondary School Virtual Open House
DESCRIPTION:Join our Secondary School Virtual Open House (Grades 6-12) at 12:00pm EST.\n\nRegister here.
X-ALT-DESC;FMTTYPE=text/html:<p>Join our&nbsp\;Secondary School Virtual Open House (Grades 6-12) at 12:00pm EST.</p>\n\n<p><a href="https://us02web.zoom.us/webinar/register/WN_MAot3oycQ-OgNE1Smgxe1g">Register here</a>.</p>\n
LOCATION:Zoom Webinar
UID:e.2584.5420
SEQUENCE:3
DTSTAMP:20260423T145255Z
URL:https://business.cambridgechamber.org/events/details/secondary-school-virtual-open-house-11-12-2020-5420
END:VEVENT

END:VCALENDAR
