BEGIN:VCALENDAR
VERSION:2.0
PRODID:-//ChamberMaster//Event Calendar 2.0//EN
METHOD:PUBLISH
X-PUBLISHED-TTL:P3D
REFRESH-INTERVAL:P3D
CALSCALE:GREGORIAN
BEGIN:VEVENT
DTSTART:20210129T000000Z
DTEND:20210129T010000Z
X-MICROSOFT-CDO-ALLDAYEVENT:FALSE
SUMMARY:International School of Boston - Secondary School Virtual Open House
DESCRIPTION:Join our Secondary School Virtual Open House (Grades 6-12) at 7:00pm EST.\n\nYou will meet our Head of School\, Director of Admissions\, Director of Secondary School\, faculty as well as some parents and students.\n\n\n\nRegister here.
X-ALT-DESC;FMTTYPE=text/html:<p><span style="font-size:12px"><span style="font-family:arial\,helvetica\,sans-serif">Join our&nbsp\;Secondary School Virtual Open House (Grades 6-12) at 7:00pm EST.</span></span></p>\n\n<p><span style="font-size:12px"><span style="font-family:arial\,helvetica\,sans-serif"><span style="background-color:transparent">You will meet our Head of School\, Director of Admissions\, Director of Secondary School\, faculty as well as some parents and students.</span><br />\n<br />\n<a href="https://www.isbos.org/admissions/open-house" style="font-size: 12px\;">Register here</a>.</span></span></p>\n
LOCATION:Zoom Webinar
UID:e.2584.5419
SEQUENCE:3
DTSTAMP:20260423T113624Z
URL:https://business.cambridgechamber.org/events/details/secondary-school-virtual-open-house-01-28-2021-5419
END:VEVENT

END:VCALENDAR
