BEGIN:VCALENDAR
VERSION:2.0
PRODID:-//ChamberMaster//Event Calendar 2.0//EN
METHOD:PUBLISH
X-PUBLISHED-TTL:P3D
REFRESH-INTERVAL:P3D
CALSCALE:GREGORIAN
BEGIN:VEVENT
DTSTART:20260428T203000Z
DTEND:20260428T230000Z
X-MICROSOFT-CDO-ALLDAYEVENT:FALSE
SUMMARY:Second Chances 2026 Earth Month Clothing Swap
DESCRIPTION:Please join us for a fun\n\nEarth Month Clothing Swap and Drive\n\nRefresh your closet at our clothing swap   where style meets sustainability! Trade in pieces you're ready to part with\, discover new favorites\, and celebrate fashion\, community\, and caring for the planet together. Bring your team or a group of friends for a fun Earth Month outing! Help raise funds so Second Chances can support our neighbors in need with free\, empowering clothing all year long.\n\nTuesday\, April 28\, 2026 | 4:30 to 7 p.m.\n\nTickets:\n\n$40 to swap up to five (5) items and support our neighbors in need\n\n$60 to swap up to ten (10) items and support our neighbors in need\n\nTickets will sell out and we're not planning for timed entry or a line\, so please buy your ticket early!\n\n\n\nhttps://secondchances.org/clothing-swap-2026/\n\nLocation: Upstairs at Bow Market | 1 Bow Market Way | Union Square | Somerville\, Massachusetts 02143 | Map
X-ALT-DESC;FMTTYPE=text/html:<h3 style="text-align:center">Please join us for a fun<br />\nEarth Month Clothing Swap and Drive</h3>\n\n<p>Refresh your closet at our clothing swap &ndash\; where style meets sustainability! Trade in pieces you&rsquo\;re ready to part with\, discover new favorites\, and celebrate fashion\, community\, and caring for the planet together. Bring your team or a group of friends for a fun Earth Month outing! Help raise funds so Second Chances can support our neighbors in need with free\, empowering clothing all year long.</p>\n\n<p>Tuesday\, April 28\, 2026 | 4:30 to 7 p.m.</p>\n\n<p>Tickets:<br />\n$40 to swap up to five (5) items and support our neighbors in need<br />\n$60 to swap up to ten (10) items and support our neighbors in need</p>\n\n<p>Tickets will sell out and we&rsquo\;re not planning for timed entry or a line\, so please buy your ticket early!<br />\n<br />\n<a href="https://secondchances.org/clothing-swap-2026/" target="_blank">https://secondchances.org/clothing-swap-2026/</a></p>\n\n<p>Location:&nbsp\;Upstairs at Bow Market |&nbsp\;1 Bow Market Way | Union Square | Somerville\, Massachusetts 02143 |&nbsp\;<a href="https://maps.app.goo.gl/EXqR6WW4jDAH2nbP6" rel="noopener" style="box-sizing: border-box\; text-decoration: 1px\; transition-property: text-decoration\, color\, background-color\, border-color\; transition-duration: 0.2s\; transition-timing-function: linear\; color: rgb(30\, 160\, 203)\; text-underline-offset: auto\;" target="_blank">Map &raquo\;</a></p>\n
LOCATION:Upstairs at Bow Market 1 Bow Market Way | Union Square | Somerville\, Massachusetts 02143 | Map
UID:e.2584.8587
SEQUENCE:3
DTSTAMP:20260423T073225Z
URL:https://business.cambridgechamber.org/events/details/second-chances-2026-earth-month-clothing-swap-8587
END:VEVENT

END:VCALENDAR
