BEGIN:VCALENDAR
VERSION:2.0
PRODID:-//ChamberMaster//Event Calendar 2.0//EN
METHOD:PUBLISH
X-PUBLISHED-TTL:P3D
REFRESH-INTERVAL:P3D
CALSCALE:GREGORIAN
BEGIN:VEVENT
DTSTART:20191030T220000Z
DTEND:20191031T000000Z
X-MICROSOFT-CDO-ALLDAYEVENT:FALSE
SUMMARY:Search Engine Optimization and Google Analytics
DESCRIPTION:Rona Abrahams\, rabrahams@cambridgema.gov\, 617-349-4637\n\nSponsored by the Community Development Department and CCTV.  Presented by Mo Abdo.\n\n \nThis course will help participants learn about the benefits of SEO and Google Analytics. Participants will learn what keywords they should use on their website\, how to get their rank higher on popular search engines\,and understand key indicators to track traffic to their business website.  **Prerequisite: You must either work on your own website\, or actively serve as an administrator for an existing business\, organization\, or charity website.\n\n\n\nFree to Cambridge residents and business owners\, $10 for non-Cambridge participants
X-ALT-DESC;FMTTYPE=text/html:<p style="margin: 0px 0px 1em\; padding: 0px\; border: 0px\; line-height: 1.4\; font-family: myriad-pro\, Arial\, Helvetica\, sans-serif\; font-size: 12px\;">Rona Abrahams\, rabrahams@cambridgema.gov\, 617-349-4637</p>\n\n<div style="margin: 0px\; padding: 0px\; border: 0px\; box-sizing: border-box\; font-family: myriad-pro\, Arial\, Helvetica\, sans-serif\; font-size: 12px\;">Sponsored by the Community Development Department and CCTV.&nbsp\; Presented by Mo Abdo.</div>\n\n<div style="margin: 0px\; padding: 0px\; border: 0px\; box-sizing: border-box\; font-family: myriad-pro\, Arial\, Helvetica\, sans-serif\; font-size: 12px\;">&nbsp\;</div>\n<span style="font-family: myriad-pro\, Arial\, Helvetica\, sans-serif\; font-size: 12px\;">This course will help participants learn about the benefits of SEO and Google Analytics. Participants will learn what keywords they should use on their website\, how to get their rank higher on popular search engines\,and understand key indicators to track traffic to their business website.&nbsp\;&nbsp\;</span><em style="font-family: myriad-pro\, Arial\, Helvetica\, sans-serif\; font-size: 12px\;"><strong>**</strong></em><em style="font-family: myriad-pro\, Arial\, Helvetica\, sans-serif\; font-size: 12px\;">Prerequisite: You must either work on your own website\, or actively serve as an administrator for an existing business\, organization\, or charity website.</em>\n\n<p style="margin: 0px 0px 1em\; padding: 0px\; border: 0px\; line-height: 1.4\; font-family: myriad-pro\, Arial\, Helvetica\, sans-serif\; font-size: 12px\;"><br />\n<em>Free to Cambridge residents and business owners\, $10 for non-Cambridge&nbsp\;participants</em></p>\n
LOCATION:CCTV 438 Mass Ave\, Cambridge
UID:e.2584.4635
SEQUENCE:3
DTSTAMP:20260424T111924Z
URL:https://business.cambridgechamber.org/events/details/search-engine-optimization-and-google-analytics-4635
END:VEVENT

END:VCALENDAR
